BEGIN:VCALENDAR
VERSION:2.0
PRODID:-//Octubre Centre de Cultura Contemporània - ECPv5.1.6//NONSGML v1.0//EN
CALSCALE:GREGORIAN
METHOD:PUBLISH
X-WR-CALNAME:Octubre Centre de Cultura Contemporània
X-ORIGINAL-URL:https://octubre.cat
X-WR-CALDESC:Events for Octubre Centre de Cultura Contemporània
BEGIN:VTIMEZONE
TZID:Europe/Andorra
BEGIN:DAYLIGHT
TZOFFSETFROM:+0100
TZOFFSETTO:+0200
TZNAME:CEST
DTSTART:20080330T010000
END:DAYLIGHT
BEGIN:STANDARD
TZOFFSETFROM:+0200
TZOFFSETTO:+0100
TZNAME:CET
DTSTART:20081026T010000
END:STANDARD
END:VTIMEZONE
BEGIN:VEVENT
DTSTART;TZID=Europe/Andorra:20080309T190000
DTEND;TZID=Europe/Andorra:20080309T190000
DTSTAMP:20260420T191956
CREATED:20200729T181742Z
LAST-MODIFIED:20200730T035639Z
UID:12503-1205089200-1205089200@octubre.cat
SUMMARY:Jaixira [Jx]
DESCRIPTION:Diumenge 9\, 19.00h. La proposta musical de Jaixira parteix d’una base senzilla de baix\, piano i percussió\, que utilitza com a mitjà d’expressió la improvisació. Ateses les diverses influències musicals absorbides de manera independent al llarg de la seua carrera\, la seua música està en un continu desenvolupament\, convergint en un estil no convencional en la línia evolutiva del jazz més europeu\, una música elegant i cool alhora que molt personal.   \n  \n  \n\nLa proposta musical de Jaixira parteix d’una base senzilla de baix\, piano i percussió\, que utilitza com a mitjà d’expressió la improvisació. Ateses les diverses influències musicals absorbides de manera independent al llarg de la seua carrera\, la seua música està en un continu desenvolupament\, convergint en un estil no convencional en la línia evolutiva del jazz més europeu\, una música elegant i cool alhora que molt personal.
URL:https://octubre.cat/activitat/jaixira-jx/
LOCATION:No definit
CATEGORIES:Diumenges de Jazz!
ATTACH;FMTTYPE=image/jpeg:https://octubre.cat/www/wp-content/uploads/2020/07/musica1.jpg
END:VEVENT
END:VCALENDAR