BEGIN:VCALENDAR
VERSION:2.0
PRODID:-//Octubre Centre de Cultura Contemporània - ECPv5.1.6//NONSGML v1.0//EN
CALSCALE:GREGORIAN
METHOD:PUBLISH
X-WR-CALNAME:Octubre Centre de Cultura Contemporània
X-ORIGINAL-URL:https://octubre.cat
X-WR-CALDESC:Events for Octubre Centre de Cultura Contemporània
BEGIN:VTIMEZONE
TZID:Europe/Andorra
BEGIN:DAYLIGHT
TZOFFSETFROM:+0100
TZOFFSETTO:+0200
TZNAME:CEST
DTSTART:20090329T010000
END:DAYLIGHT
BEGIN:STANDARD
TZOFFSETFROM:+0200
TZOFFSETTO:+0100
TZNAME:CET
DTSTART:20091025T010000
END:STANDARD
END:VTIMEZONE
BEGIN:VEVENT
DTSTART;TZID=Europe/Andorra:20090219T193000
DTEND;TZID=Europe/Andorra:20090219T193000
DTSTAMP:20260420T143804
CREATED:20200729T182309Z
LAST-MODIFIED:20200729T182309Z
UID:12750-1235071800-1235071800@octubre.cat
SUMMARY:Jacques Ellul\, vist per Ramon Alcoberro
DESCRIPTION:Dijous 19 de febrer\, a les 19.30h:  Jacques Ellul\, vist per Ramon Acoberro (Universitat de Girona)  \n  \n  \n\nUn dels primers filòsofs de l’ecologisme a Europa i precursor de l’ètica del no-poder\, que es carateriza per la frase “puc però no vull”. Ramon Alcoberro és professor d’Ètica a la Universtiat de Girona.  Aquesta conferència forma part del II Cicle de Pensadors Ambientals
URL:https://octubre.cat/activitat/jacques-ellul-vist-per-ramon-alcoberro/
LOCATION:No definit
CATEGORIES:Institut del Territori
ATTACH;FMTTYPE=image/jpeg:https://octubre.cat/www/wp-content/uploads/2020/07/activitat775.jpg
END:VEVENT
END:VCALENDAR