BEGIN:VCALENDAR
VERSION:2.0
PRODID:-//Octubre Centre de Cultura Contemporània - ECPv5.1.6//NONSGML v1.0//EN
CALSCALE:GREGORIAN
METHOD:PUBLISH
X-WR-CALNAME:Octubre Centre de Cultura Contemporània
X-ORIGINAL-URL:https://octubre.cat
X-WR-CALDESC:Events for Octubre Centre de Cultura Contemporània
BEGIN:VTIMEZONE
TZID:Europe/Andorra
BEGIN:DAYLIGHT
TZOFFSETFROM:+0100
TZOFFSETTO:+0200
TZNAME:CEST
DTSTART:20070325T010000
END:DAYLIGHT
BEGIN:STANDARD
TZOFFSETFROM:+0200
TZOFFSETTO:+0100
TZNAME:CET
DTSTART:20071028T010000
END:STANDARD
END:VTIMEZONE
BEGIN:VEVENT
DTSTART;TZID=Europe/Andorra:20070524T080000
DTEND;TZID=Europe/Andorra:20070524T170000
DTSTAMP:20260420T165810
CREATED:20200907T192631Z
LAST-MODIFIED:20200907T192631Z
UID:14996-1179993600-1180026000@octubre.cat
SUMMARY:Ix + Hèctor Arnau
DESCRIPTION:Cicle organitzat per l’Octubre CCC i programat per Francesc Burgos (lacasacalba)
URL:https://octubre.cat/activitat/ix-hector-arnau/
LOCATION:Sala d’actes
CATEGORIES:Notes al peu
ATTACH;FMTTYPE=image/jpeg:https://octubre.cat/www/wp-content/uploads/2020/07/musica1.jpg
END:VEVENT
END:VCALENDAR