BEGIN:VCALENDAR
VERSION:2.0
PRODID:-//Octubre Centre de Cultura Contemporània - ECPv5.1.6//NONSGML v1.0//EN
CALSCALE:GREGORIAN
METHOD:PUBLISH
X-WR-CALNAME:Octubre Centre de Cultura Contemporània
X-ORIGINAL-URL:https://octubre.cat
X-WR-CALDESC:Events for Octubre Centre de Cultura Contemporània
BEGIN:VTIMEZONE
TZID:Europe/Andorra
BEGIN:DAYLIGHT
TZOFFSETFROM:+0100
TZOFFSETTO:+0200
TZNAME:CEST
DTSTART:20200329T010000
END:DAYLIGHT
BEGIN:STANDARD
TZOFFSETFROM:+0200
TZOFFSETTO:+0100
TZNAME:CET
DTSTART:20201025T010000
END:STANDARD
END:VTIMEZONE
BEGIN:VEVENT
DTSTART;TZID=Europe/Andorra:20200207T200000
DTEND;TZID=Europe/Andorra:20200207T200000
DTSTAMP:20260421T054553
CREATED:20200729T191327Z
LAST-MODIFIED:20200729T191327Z
UID:13675-1581105600-1581105600@octubre.cat
SUMMARY:Ivette Nadal i Caïm Riba
DESCRIPTION:Divendres 7 de febrer a les 20.00h. Entrades a 9€ i 12€.	 \n  \n  \n\n 	 Ivette Nadal torna amb un nou llibre de poemes que s’edita (entre febrer-març) amb l’editorial Cafè Central. I en fa un espectacle combinant la seva guitarra acústica amb guitarres elèctriques\, veus i efectes buscant l’essència de l’ànima i l’àngel de les cançons mitjançant la nova producció i la nova forma de cantar-les i recitar-les.  Tot lligant els seus poemes nous amb cançons dels seus 5 discs i temes de nova volada. Actualment ens presenta de la mà d’en Caïm Riba a la guitarra\, uns nous arranjaments amb un so cosmopolita\, amb nous aires rítmics\, jugant amb petits estralls de rumba\, i aires més alegres\, però destaca sobretot una nova actitud escènica i interpretativa.   Apertura de portes: 19.30h Entrades: –12 euros a taquilla –9 euros anticipada a través d’aquest enllaç  — Aquest concert forma part del festival BarnaSants25.
URL:https://octubre.cat/activitat/ivette-nadal-i-caim-riba/
LOCATION:Sala d’actes
CATEGORIES:Música
ATTACH;FMTTYPE=image/jpeg:https://octubre.cat/www/wp-content/uploads/2020/07/activitat3416.jpg
END:VEVENT
END:VCALENDAR