BEGIN:VCALENDAR
VERSION:2.0
PRODID:-//Octubre Centre de Cultura Contemporània - ECPv5.1.6//NONSGML v1.0//EN
CALSCALE:GREGORIAN
METHOD:PUBLISH
X-WR-CALNAME:Octubre Centre de Cultura Contemporània
X-ORIGINAL-URL:https://octubre.cat
X-WR-CALDESC:Events for Octubre Centre de Cultura Contemporània
BEGIN:VTIMEZONE
TZID:Europe/Andorra
BEGIN:DAYLIGHT
TZOFFSETFROM:+0100
TZOFFSETTO:+0200
TZNAME:CEST
DTSTART:20140330T010000
END:DAYLIGHT
BEGIN:STANDARD
TZOFFSETFROM:+0200
TZOFFSETTO:+0100
TZNAME:CET
DTSTART:20141026T010000
END:STANDARD
END:VTIMEZONE
BEGIN:VEVENT
DTSTART;TZID=Europe/Andorra:20140227T193000
DTEND;TZID=Europe/Andorra:20140227T193000
DTSTAMP:20260421T054550
CREATED:20200729T170255Z
LAST-MODIFIED:20200729T184312Z
UID:9666-1393529400-1393529400@octubre.cat
SUMMARY:Ivan Carbonell i Lluís Miret
DESCRIPTION:Dijous 27 de febrer a les 19.30h. Sessió amb Ivan Carbonell i Lluís Miret. Organitzat amb la col·laboració de l’AELC  \n  \n  \n\n Ivan Carbonell Ivan Carbonell i Iglesias (València\, 1979) és llicenciat en Filologia Catalana i llicenciat en Humanitats per la Universitat de València. És professor de Valencià en Secundària i ha guanyat nombrosos premis de literatura breu\, com ara el Sambori universitari\, el Felipe Ramis o els Premis Bancaixa-Universitat de València. A banda de diverses obres de narrativa juvenil (La nit de la princiesa\, El secret del Mas de la Pedra\, etc.)\, entre 2010 i 2013 publica novel·les per  a un públic adult\, com sempre havia somiat. Es tracta de La promesa del gal·lés\, Premi Ciutat de Sagunt\, amb Onada Edicions\, i Els aprenents de traïdor\, Premi Vila l’Ametlla de Mar\, amb Cossetània edicions. És membre de l’Associació Internacional de Llengua i Literatura Catalana i del Centre d’Estudis Contestans de Cocentaina.  Lluís Miret  Nascut a Gandia el 1973\, és doctor en Economia per la UPV i treballa com a professor a l’IES Tirant lo Blanc de Gandia i a la Universitat Politècnica de València.  Alguns dels llibres que ha publicat són PQPI Connection (Ed. Bromera. Premi Mallorca 2010)\, Local Hero (Institut d’Estudis Ilerdencs. Premi Talúries 2008)\, Les Valls dels Bandolers (Columna Edicions\, Premi Ramon Muntaner 2007)\, Jordi i el Tresor de les Vint Perles (Edicions del Bullent. Premi Carmessina 2007)\, etc. Recentment ha guanyat el premi Vicenta Ferrer Escrivà per la novel·la infantil Les Aventures del Mag Xaviton que publicarà properament Tandem Edicions. També es troba a l’espera de publicar el llibre 100 Qüestions d’Economia a l’editorial Cossetània.
URL:https://octubre.cat/activitat/ivan-carbonell-i-lluis-miret/
LOCATION:Àtic
CATEGORIES:Escriptors al terrat
ATTACH;FMTTYPE=image/jpeg:https://octubre.cat/www/wp-content/uploads/2020/07/activitat1957.jpg
END:VEVENT
END:VCALENDAR