BEGIN:VCALENDAR
VERSION:2.0
PRODID:-//Octubre Centre de Cultura Contemporània - ECPv5.1.6//NONSGML v1.0//EN
CALSCALE:GREGORIAN
METHOD:PUBLISH
X-WR-CALNAME:Octubre Centre de Cultura Contemporània
X-ORIGINAL-URL:https://octubre.cat
X-WR-CALDESC:Events for Octubre Centre de Cultura Contemporània
BEGIN:VTIMEZONE
TZID:Europe/Andorra
BEGIN:DAYLIGHT
TZOFFSETFROM:+0100
TZOFFSETTO:+0200
TZNAME:CEST
DTSTART:20190331T010000
END:DAYLIGHT
BEGIN:STANDARD
TZOFFSETFROM:+0200
TZOFFSETTO:+0100
TZNAME:CET
DTSTART:20191027T010000
END:STANDARD
END:VTIMEZONE
BEGIN:VEVENT
DTSTART;TZID=Europe/Andorra:20190531T100000
DTEND;TZID=Europe/Andorra:20190531T100000
DTSTAMP:20260421T103351
CREATED:20200729T173401Z
LAST-MODIFIED:20200729T191135Z
UID:11431-1559296800-1559296800@octubre.cat
SUMMARY:IV Workshop de Democràcia i Participació
DESCRIPTION:Divendres 31 de maig a partir de les 10.00h. “Encarant la nova dreta radical al sud d’Europa”. Organitzat per la Fundació Nexe amb la col·laboració de la Coppieters Foundation. Assistència per inscripció.	 \n  \n  \n\n 	 El Workshop de Democràcia i Participació de la Fundació Nexe arriba a la seua quarta edició i enguany el centrem en un tema que ens preocupa i que volem analitzar amb profunditat: la nova dreta radical al sud d’Europa.  La conferència es dividirà en tres panels delimitats per les respectives arenes polítiques en l’àmbit internacional\, estatal i regional. El primer analitzarà el cas grec\, francés\, italià\, portugués. El segon i tercer panels se centraran a l’Estat espanyol i el País Valencià i versaran sobre el paper marginal que històricament ha tingut la dreta radical així com les raons i implicacions del creixement electoral de l’extrema dreta en l’actualitat.  — Organitzat per la Fundació Nexe amb la col·laboració de la Coppieters Foundation. Més informació\, programa i inscripcions.
URL:https://octubre.cat/activitat/iv-workshop-de-democracia-i-participacio/
CATEGORIES:Conferències i congressos
ATTACH;FMTTYPE=image/jpeg:https://octubre.cat/www/wp-content/uploads/2020/07/activitat3275.jpg
END:VEVENT
END:VCALENDAR