BEGIN:VCALENDAR
VERSION:2.0
PRODID:-//Octubre Centre de Cultura Contemporània - ECPv5.1.6//NONSGML v1.0//EN
CALSCALE:GREGORIAN
METHOD:PUBLISH
X-WR-CALNAME:Octubre Centre de Cultura Contemporània
X-ORIGINAL-URL:https://octubre.cat
X-WR-CALDESC:Events for Octubre Centre de Cultura Contemporània
BEGIN:VTIMEZONE
TZID:Europe/Andorra
BEGIN:DAYLIGHT
TZOFFSETFROM:+0100
TZOFFSETTO:+0200
TZNAME:CEST
DTSTART:20080330T010000
END:DAYLIGHT
BEGIN:STANDARD
TZOFFSETFROM:+0200
TZOFFSETTO:+0100
TZNAME:CET
DTSTART:20081026T010000
END:STANDARD
END:VTIMEZONE
BEGIN:VEVENT
DTSTART;TZID=Europe/Andorra:20080717T100000
DTEND;TZID=Europe/Andorra:20080718T000000
DTSTAMP:20260420T202221
CREATED:20200729T181935Z
LAST-MODIFIED:20200730T035807Z
UID:12615-1216288800-1216339200@octubre.cat
SUMMARY:IV Universitat d'Estudis Econòmics de l'Euram
DESCRIPTION:17 i 18 de juliol: El món asiàtic i l’Euram. Xina i l’Índia  \n  \n  \n\nEl món asiàtic i l’Euram. Xina i l’Índia  L’Institut Ignasi Villalonga celebra els dies 17 i 18 de juliol la IV Universitat d’Estudis Econòmics de l’Euram\, a les instal·lacions de l’Octubre Centre de Cultura Contemporània.  L’auge de Xina i\, més recentment\, de l’Índia és un dels esdeveniments principals en l’evolució de l’economia mundial de finals del segle XX i principis del XXI. Les raons principals són que aquest auge el protagonitzen dos gegants demogràfics i que\, si es manté en els pròxims decennis\, està destinat a canviar molt substancialment el mapa econòmic del planeta.  En el cas concret de l’Índia\, el denominat Silicon Valley\, en referència a la vall californiana on estan ubicades empreses com Microsoft\, la ciutat de Bangalore representa el salt qualitatiu de l’economia índia pel fet de liderar el sector del softwear en tot Àsia i ser un clar competidor per a Europa i Estats Units.  La importància dins d’Àsia de les economies de Xina i Índia és clau per a les relacions econòmiques amb Europa\, i dins d’Europa\, l’euroregió de l’Arc Mediterrani.  El pes conjunt de Xina i Índia en el comerç internacional de béns i serveis ha adquirit una dimensió considerable. Pel que fa a les mercaderies\, va aconseguir el 8% en 2005\, enfront del 3\,5% de 1995. En els serveis\, va ser del 5\,5% en 2005\, una proporció molt superior al 2\,5% registrat deu anys abans. Es tracta\, per tant\, d’un parell de països no sols molt importants des del punt de vista demogràfic o energètic (són grans consumidors i importadors de petroli) sinó també\, cada vegada més notable\, des del punt de vista comercial.  Per consultar més informació sobre el programa i fer la inscripció visiteu la plana web de la IV Universitat d’Estudis Econòmics de l’Euram o bé al telèfon 96 315 77 99  Recordeu que podeu obtenir crèdits de lliure opció amb l’assistència a la IV Universitat d’Estudis Econòmics de l’Euram.
URL:https://octubre.cat/activitat/iv-universitat-destudis-economics-de-leuram/
LOCATION:No definit
CATEGORIES:Institut Ignasi Villalonga d'Economia i Empresa
ATTACH;FMTTYPE=image/jpeg:https://octubre.cat/www/wp-content/uploads/2020/07/activitat636.jpg
END:VEVENT
END:VCALENDAR