BEGIN:VCALENDAR
VERSION:2.0
PRODID:-//Octubre Centre de Cultura Contemporània - ECPv5.1.6//NONSGML v1.0//EN
CALSCALE:GREGORIAN
METHOD:PUBLISH
X-WR-CALNAME:Octubre Centre de Cultura Contemporània
X-ORIGINAL-URL:https://octubre.cat
X-WR-CALDESC:Events for Octubre Centre de Cultura Contemporània
BEGIN:VTIMEZONE
TZID:Europe/Andorra
BEGIN:DAYLIGHT
TZOFFSETFROM:+0100
TZOFFSETTO:+0200
TZNAME:CEST
DTSTART:20160327T010000
END:DAYLIGHT
BEGIN:STANDARD
TZOFFSETFROM:+0200
TZOFFSETTO:+0100
TZNAME:CET
DTSTART:20161030T010000
END:STANDARD
END:VTIMEZONE
BEGIN:VEVENT
DTSTART;TZID=Europe/Andorra:20161126T000000
DTEND;TZID=Europe/Andorra:20161126T000000
DTSTAMP:20260421T014906
CREATED:20200729T172158Z
LAST-MODIFIED:20200729T185642Z
UID:10879-1480118400-1480118400@octubre.cat
SUMMARY:IV Jornades de Bisexualitat i Diversitat Sexual
DESCRIPTION:Dissabte 26 de novembre\, en el context de l’Any de la Visibilitat Bisexual en la Diversitat. Organitzat per Lambda.  \n  \n  \n\n Els pròxims 25\, 26 i 27 de Novembre se celebren a València les IV Jornades de Bisexualitat.  En el context de l’Any de la Visibilitat Bisexual en la Diversitat\, Lambda\, col·lectiu de lesbianes\, gais\, transsexuals i bisexuals de València i la Federación Estatal de Lesbianas\, Gais\, Transexuales y Bisexuales organitzen les IV Jornades sobre Bisexualitat i Diversitat Sexual que se celebraran els pròxims 25\, 26 i 27 de Novembre en la ciutat de València.Aquestes jornades estan dirigides a persones bisexuals\, familiars\, amics\, persones no bisexuals\, activistes LGTB\, membres de partits polítics\, professionals de la salut\, agents de canvi social\, treballadors socials i professionals de l’àmbit de la psicologia\, educatiu i acadèmic així com a la ciutadania general.  Més informació i programa d’actes.
URL:https://octubre.cat/activitat/iv-jornades-de-bisexualitat-i-diversitat-sexual/
LOCATION:No definit
CATEGORIES:Conferències i congressos
ATTACH;FMTTYPE=image/jpeg:https://octubre.cat/www/wp-content/uploads/2020/07/activitat2698.jpg
END:VEVENT
END:VCALENDAR