BEGIN:VCALENDAR
VERSION:2.0
PRODID:-//Octubre Centre de Cultura Contemporània - ECPv5.1.6//NONSGML v1.0//EN
CALSCALE:GREGORIAN
METHOD:PUBLISH
X-WR-CALNAME:Octubre Centre de Cultura Contemporània
X-ORIGINAL-URL:https://octubre.cat
X-WR-CALDESC:Events for Octubre Centre de Cultura Contemporània
BEGIN:VTIMEZONE
TZID:Europe/Andorra
BEGIN:DAYLIGHT
TZOFFSETFROM:+0100
TZOFFSETTO:+0200
TZNAME:CEST
DTSTART:20170326T010000
END:DAYLIGHT
BEGIN:STANDARD
TZOFFSETFROM:+0200
TZOFFSETTO:+0100
TZNAME:CET
DTSTART:20171029T010000
END:STANDARD
END:VTIMEZONE
BEGIN:VEVENT
DTSTART;TZID=Europe/Andorra:20170120T190000
DTEND;TZID=Europe/Andorra:20170120T190000
DTSTAMP:20260420T182842
CREATED:20200729T172326Z
LAST-MODIFIED:20200729T185720Z
UID:10970-1484938800-1484938800@octubre.cat
SUMMARY:IV Festival Internacional Dona i Cinema
DESCRIPTION:Projeccions el dimecres 18 i el dijous 19 de gener. Cloenda i lliurament de premis del Festival el divendres 20 de gener.  \n  \n  \n\n IV Festival Internacional Dona i Cinema  Del 16 al 20 de gener a diversos espais de la ciutat de València.  Programació a l’Octubre CCC:   Dimecres 18 de gener a les 19.00h:  —Sleepleess Night\, d’Eliane Raheb Millor llargmetratge documental del III Festival Internacional Dona i Cinema  A través de la història d’Assaad Shaftari\, un ex-alt càrrec de les milícies cristianes que va ser responsable de nombroses matances durant la guerra civil del Líban\, i de Maryam Saiidi\, mare d’un jove que fou segrestat durant aquella contesa\, aquest documental aprofundeix en les ferides del conflicte i es pregunta si la redempció i el perdó són possibles. Títol original: Layali Bala Noom Direcció: Eliane Raheb (2012) Guió: Nizar Hassan Fotografia: Jocelyne Abi Gebrayel\, Meyyar Al Roumi Coproducció Líban – Dubai – Qatar – Palestina – França Durada: 128’   Dijous 19 de gener a les 19.00h  —Clara Campoamor. La mujer olvidada (TV)\, de Laura Mañá Millor llargmetratge de ficció del II Festival Internacional Dona i Cinema  En el context de la Segona República\, Clara Campoamor i Victoria Kent van ser les primeres dones diputades (les dones podien ser elegides però no podien votar). Clara Campoamor planteja la seua lluita pels drets de la dona i el sufragi universal. Després d’una lluita constant i de múltiples traïcions (incloent-hi la del seu propi partit\, republicà i d’esquerres)\, el dia 1 de desembre de 1931 Campoamor aconsegueix el seu objectiu: el vot per a la dona. Direcció: Laura Mañá (2011) Guió: Yolanda García Serrano\, Rafa Russo Música: Xavi Capellas Fotografia: Sergi Gallardo Repartiment: Elvira Mínguez\, Antonio de la Torre\, Mónica López\, Joan Carreras\, Pep Cruz\, Toni Sevilla\, Joan Massotkleiner\, Manel Barceló\, Fermí Reixach\, Mingo Ràfols\, Mar Ulldemolins\, Roger Casamajor\, Sara Espígul\, Montserrat Carulla\, Jordi Sánchez\, Xavier Amatller\, Joaquín Gómez\, Pep Sais  Productora: TVE / TV3 / Distinto Films Durada: 80′   Divendres 20 de gener a les 19.00h.  Clausura del festival Lliurament dels premis en les seccions Llargs de Ficció\, Llargs Documentals\, Videocreació-animació\, Curts de Ficció i Curts Documentals. Entrada lliure fins a completar l’aforament.  Organitzat per Dones en Art amb la col·laboració de l’Octubre CCC
URL:https://octubre.cat/activitat/iv-festival-internacional-dona-i-cinema/
LOCATION:Sala d’actes
CATEGORIES:Cinema
ATTACH;FMTTYPE=image/jpeg:https://octubre.cat/www/wp-content/uploads/2020/07/activitat2747.jpg
END:VEVENT
END:VCALENDAR