BEGIN:VCALENDAR
VERSION:2.0
PRODID:-//Octubre Centre de Cultura Contemporània - ECPv5.1.6//NONSGML v1.0//EN
CALSCALE:GREGORIAN
METHOD:PUBLISH
X-WR-CALNAME:Octubre Centre de Cultura Contemporània
X-ORIGINAL-URL:https://octubre.cat
X-WR-CALDESC:Events for Octubre Centre de Cultura Contemporània
BEGIN:VTIMEZONE
TZID:Europe/Andorra
BEGIN:DAYLIGHT
TZOFFSETFROM:+0100
TZOFFSETTO:+0200
TZNAME:CEST
DTSTART:20190331T010000
END:DAYLIGHT
BEGIN:STANDARD
TZOFFSETFROM:+0200
TZOFFSETTO:+0100
TZNAME:CET
DTSTART:20191027T010000
END:STANDARD
BEGIN:DAYLIGHT
TZOFFSETFROM:+0100
TZOFFSETTO:+0200
TZNAME:CEST
DTSTART:20200329T010000
END:DAYLIGHT
BEGIN:STANDARD
TZOFFSETFROM:+0200
TZOFFSETTO:+0100
TZNAME:CET
DTSTART:20201025T010000
END:STANDARD
END:VTIMEZONE
BEGIN:VEVENT
DTSTART;TZID=Europe/Andorra:20191112T000000
DTEND;TZID=Europe/Andorra:20200105T000000
DTSTAMP:20260422T014003
CREATED:20200729T173556Z
LAST-MODIFIED:20200905T153414Z
UID:11563-1573516800-1578182400@octubre.cat
SUMMARY:IV Biennal de València Ciutat Vella Oberta 2019
DESCRIPTION:Dins el Circuit de l’Art de la IV Biennal de València Ciutat Vella Oberta assistirem a l’exposició del treball de 35 artistes seleccionats\, amb la participació de diversos països\, una successió de performances i projecció de vídeos. \nLa novetat en aquesta 4quarta edició serà l’inici del Cicle de Diàlegs de la Biennal a l’Octubre CCC amb taules de debats sobre muralisme i grafitti a la ciutat de València i la presentació del 1er Diàleg de Gènere: dones artistes. \nEXPOSICIÓ:\nObres de Roberto Amador\, Pepa Arróniz\, Jesús Arrúe\, Inma Coll\, Irene Clouthier\, Nicolás Caballero\, Daniel Carpona Plà\, Verónica Domingo\, Alejandro Escribano\, Carmen Ferrando\, Josep A. Garcia Bel\, Rubén González\, Miguel González Frades\, Miguel Hache\, Yula Ivanovna\, Irene Lario\, Carmela Lorusso\, Alejandro Martínez\, Oliver Martínez\, Salvador Mascarell\, Eva Mauricio\, Vidal Monroy\, Beatriz Olmo\, Anna Pastor\, Roberto Pisa Peña\, Marian Plate Ros (anaira)\, Susanna Roig\, Jorge Rubert\, Paco Sanz\, Eduardo Serrano\, Inma Soler\, Reme Tomás i Lola Tudela. \nACTIVITATS PARAL·LELES A L’OCTUBRE CCC \nDivendres 15 de novembre Imatges\, carrer i pintura: propostes\n–18.00h. “ArteVisión”: projecció de vídeos d’artistes seleccionats per la Biennal de València.\n–20.00h. “València\, Grafitti i Art urbà”\, taula rodona moderada per Rosa López\, amb la participació de Diego López Giménez (Dídac)\, Sergio Terrones i un altre artista a confirmar. \nDissabte 16 de novembre Cicle de Diàlegs de la Biennal 1er Diàleg de Gènere: dones artistes\n–17.30h. Presentació del Cicle de Diàlegs de la Biennal\, per Rosa López\, Marigela Pueyrredon i Lilia Koutsoukou.\n–17.45h. Performance “Working girl”\, de l’artista Andrea Corrales.\n–19.00h. Projecció del vídeo “Beware The Stare\,” de l’artista Micaela Maisa Montero.\n–19.15h. “Veus de dones artistes”\, taula rodona moderada per Rosa López amb la participació de Concha Ros\, Ana Chacón i Helena Martí Manzanares. \nDel 13 al 16 de novembre Performance “Soul Drawings (dibuixos de l’ànima)” de l’artista Xavier Carillo que regalarà 250 retrats originals diaris a tots els ciutadans que visiten el Circuit de l’Art de la Biennal de València\n–18.00h dimecres 13\, dijous 14 i divendres 15\n–18.30h dissabte 16 \nOrganitzat per Ciutat Vella Oberta amb la col·laboració de l’Octubre CCC
URL:https://octubre.cat/activitat/iv-biennal-de-valencia-ciutat-vella-oberta-2019/
LOCATION:Sala d’exposicions
CATEGORIES:Exposicions
ATTACH;FMTTYPE=image/jpeg:https://octubre.cat/www/wp-content/uploads/2020/07/activitat3367.jpg
END:VEVENT
END:VCALENDAR