BEGIN:VCALENDAR
VERSION:2.0
PRODID:-//Octubre Centre de Cultura Contemporània - ECPv5.1.6//NONSGML v1.0//EN
CALSCALE:GREGORIAN
METHOD:PUBLISH
X-WR-CALNAME:Octubre Centre de Cultura Contemporània
X-ORIGINAL-URL:https://octubre.cat
X-WR-CALDESC:Events for Octubre Centre de Cultura Contemporània
BEGIN:VTIMEZONE
TZID:Europe/Andorra
BEGIN:DAYLIGHT
TZOFFSETFROM:+0100
TZOFFSETTO:+0200
TZNAME:CEST
DTSTART:20170326T010000
END:DAYLIGHT
BEGIN:STANDARD
TZOFFSETFROM:+0200
TZOFFSETTO:+0100
TZNAME:CET
DTSTART:20171029T010000
END:STANDARD
END:VTIMEZONE
BEGIN:VEVENT
DTSTART;TZID=Europe/Andorra:20171020T200000
DTEND;TZID=Europe/Andorra:20171020T200000
DTSTAMP:20260420T142806
CREATED:20200729T190145Z
LAST-MODIFIED:20200729T190145Z
UID:13252-1508529600-1508529600@octubre.cat
SUMMARY:Isabel Vinardell & Isabelle Laudenbach
DESCRIPTION:Divendres 20 d’octubre a les 20.00h. Entrades a 6 i 8 euros.  \n  \n  \n\n Després de les seues experiències adquirides en altres bandes del panorama musical barceloní (Cheb Balowski i Las Migas)\, les dues isabels van decidir compartir un camí marcat per la intimitat i la música a flor de pell. Vivint aquest projecte com un camí\, decideixen emprendre un viatge i que cada cançó\, siga d’elles o d’altres\, tinga la seua pròpia història i tinga vida en cada escenari diferent.  Apertura portes: 19.30h  Entrades: –8 euros a taquilla –6 euros anticipada a ticketea.com  — Espai Octubre Concerts és una iniciativa de l’Octubre CCC gestionada per les productores musicals Metrònom\, Play Producciones\,  Mésdemil i lacasacalba.org.
URL:https://octubre.cat/activitat/isabel-vinardell-isabelle-laudenbach/
CATEGORIES:Espai Octubre Concerts
ATTACH;FMTTYPE=image/jpeg:https://octubre.cat/www/wp-content/uploads/2020/07/activitat2892.jpg
END:VEVENT
END:VCALENDAR