BEGIN:VCALENDAR
VERSION:2.0
PRODID:-//Octubre Centre de Cultura Contemporània - ECPv5.1.6//NONSGML v1.0//EN
CALSCALE:GREGORIAN
METHOD:PUBLISH
X-WR-CALNAME:Octubre Centre de Cultura Contemporània
X-ORIGINAL-URL:https://octubre.cat
X-WR-CALDESC:Events for Octubre Centre de Cultura Contemporània
BEGIN:VTIMEZONE
TZID:Europe/Andorra
BEGIN:DAYLIGHT
TZOFFSETFROM:+0100
TZOFFSETTO:+0200
TZNAME:CEST
DTSTART:20100328T010000
END:DAYLIGHT
BEGIN:STANDARD
TZOFFSETFROM:+0200
TZOFFSETTO:+0100
TZNAME:CET
DTSTART:20101031T010000
END:STANDARD
END:VTIMEZONE
BEGIN:VEVENT
DTSTART;TZID=Europe/Andorra:20100116T190000
DTEND;TZID=Europe/Andorra:20100116T190000
DTSTAMP:20260420T190924
CREATED:20200729T164646Z
LAST-MODIFIED:20200729T182726Z
UID:8686-1263668400-1263668400@octubre.cat
SUMMARY:Isabel León (Càceres) + Emanuele Mazza (València) + Saúl Vanaclocha (València)
DESCRIPTION:Dissabte 16 de gener\, a les 19.00h: Isabel León (Càceres) + Emanuele Mazza (València) + Saúl Vanaclocha (València).  \n  \n  \n\nEn la imatge\, Emanuele Mazza.  Isabel León és llicenciada en Belles Arts per la Universitat Politècnica de València. El seu treball ha evolucionat des de la fotografia i el vídeo fins a l’art d’acció\, disciplina a la qual s’hi dedica actualment gairebé de manera exclusiva. Ha participat en nombroses exposicions tant a Espanya com en l’estranger\, i ha estat premiada amb les beques Francisco Zurbarán de la Junta d’Extremadura en dues ocasions. Recentment ha participat en nombrosos festivals i trobades d’art d’acció\, en els quals cabria destacar Acció!MAD09\, Influxus I i II (Càceres 2007 i 2009)\, La Muga Caula 4 i 5 (Girona\, 2008 i 2009)\, Sinergia (Girona\, 2008) i Ràdio d’Acció (Huelva\, 2008).  Emanuele Mazza: “Arribar a qualsevol nou lloc\, físic o mental\, implica atalaiar altres desconeguts i sentir l’atracció que aquest no saber impulsa; atraccions intuïtives que no cessen\, doncs acostar-se\, accedir és de nou veure altres perfils desconeguts. I no és que la quietud tingui en ella alguna cosa negativa\, simplement és consciència que tot és canvi\, inevitable tensió\, curiositat\, necessitat de conèixer això  altre que dispara l’atenció. I així es va teixint una xarxa que no respon a criteris reglats\, si no que manifesta\, les més de les vegades\, un desig de distància enfront de la regla. Per aquest motiu la motivació guiï la formació provocant el canvi de llocs\, de disciplines/matèries\, sempre amb les seves línies de fugida actives per a travessar les parets permeables que comuniquen els sabers. De manera que la suma d’aquestes experiències va dibuixant\, com per capes\, un mapa particular de relacions. La formació informàtica en la base prepara un sediment que impregna o tenyeix de determinada manera el recorregut pels territoris de l’art o les temptatives filosòfiques”.   Saúl Vanaclocha és llicenciat en Belles Arts per la Facultat de Belles Arts de San Carlos i va estudiar performance en l’aula de Bartolomé Ferrando. Va participar en diverses mostres col·lectives de performance a diverses galeries de València i a trobades internacionals a Portugal i Itàlia. Va realitzar un taller de performace amb l’artista Esther Ferrer en el centre d’Art Contemporani de Castelló i també una exposició individual de dibuixos i pintures en la Casa de la Cultura d’Almussafes. Actualment desenvolupa diversos projectes musicals (Nanai\, Macavana) i centra els seus estudis en l’art del tai-txí i el Qigong.
URL:https://octubre.cat/activitat/isabel-leon-caceres-emanuele-mazza-valencia-saul-vanaclocha-valencia/
LOCATION:No definit
CATEGORIES:Arrt d'Accció
ATTACH;FMTTYPE=image/jpeg:https://octubre.cat/www/wp-content/uploads/2020/07/activitat1030.jpg
END:VEVENT
END:VCALENDAR