BEGIN:VCALENDAR
VERSION:2.0
PRODID:-//Octubre Centre de Cultura Contemporània - ECPv5.1.6//NONSGML v1.0//EN
CALSCALE:GREGORIAN
METHOD:PUBLISH
X-WR-CALNAME:Octubre Centre de Cultura Contemporània
X-ORIGINAL-URL:https://octubre.cat
X-WR-CALDESC:Events for Octubre Centre de Cultura Contemporània
BEGIN:VTIMEZONE
TZID:Europe/Andorra
BEGIN:DAYLIGHT
TZOFFSETFROM:+0100
TZOFFSETTO:+0200
TZNAME:CEST
DTSTART:20180325T010000
END:DAYLIGHT
BEGIN:STANDARD
TZOFFSETFROM:+0200
TZOFFSETTO:+0100
TZNAME:CET
DTSTART:20181028T010000
END:STANDARD
END:VTIMEZONE
BEGIN:VEVENT
DTSTART;TZID=Europe/Andorra:20181129T190000
DTEND;TZID=Europe/Andorra:20181129T190000
DTSTAMP:20260421T192129
CREATED:20200729T173152Z
LAST-MODIFIED:20200729T190946Z
UID:11296-1543518000-1543518000@octubre.cat
SUMMARY:Isabel Burdiel: ‘Frankenstein o la identidad monstruosa. Doscientos años después’
DESCRIPTION:Dijous 29 de novembre a les 19.00h. Activitat inclosa en el cicle de cinema i conferències “Els dijous de Frankenstein” de l’Espai Ciència\, un seguit d’activitats en homenatge a Mary Shelley i el doctor Frankenstein en el bicentenari de la criatura.	 \n  \n  \n\n 	 Isabel Burdiel (Badajoz 1958) és historiadora\, catedràtica d’història contemporània de la Universitat de València. Està especialitzada al segle XIX i s’ha interessant també per les relacions entre història i literatura i per les possibilitats de la història biogràfica. En 2011 va rebre el Premio Nacional de Historia per una biografia d’Isabel II. Ha dedicat una part important de la seua obra a la historiografia de les dones i la recerca sobre la construcció d’identitat. Entre les seues moltes publicacions destaca en aquest cas l’edició crítica del Frankenstein de Mary Shelley (1996)\, amb estudi introductori.  — Activitat inclosa en el cicle de cinema i conferències “Els dijous de Frankenstein”\, un seguit d’activitats en homenatge a Mary Shelley i el doctor Frankenstein en el bicentenari de la criatura. Organitzat per l’Espai Ciència d’Acció Cultural del País Valencià amb la col·laboració de l’Institu8t d’Estudis Catalans\, Associació d’Escriptors en Llengua Catalana\, Unitat de Cultura Científica de la UV\, CSIC\, Llibreria Fan Set i Revista Mètode. Entrada lliure.
URL:https://octubre.cat/activitat/isabel-burdiel-frankenstein-o-la-identidad-monstruosa-doscientos-anos-despues/
LOCATION:Sala d’actes
CATEGORIES:Espai Ciència
ATTACH;FMTTYPE=image/jpeg:https://octubre.cat/www/wp-content/uploads/2020/07/activitat3135.jpg
END:VEVENT
END:VCALENDAR