BEGIN:VCALENDAR
VERSION:2.0
PRODID:-//Octubre Centre de Cultura Contemporània - ECPv5.1.6//NONSGML v1.0//EN
CALSCALE:GREGORIAN
METHOD:PUBLISH
X-WR-CALNAME:Octubre Centre de Cultura Contemporània
X-ORIGINAL-URL:https://octubre.cat
X-WR-CALDESC:Events for Octubre Centre de Cultura Contemporània
BEGIN:VTIMEZONE
TZID:Europe/Andorra
BEGIN:DAYLIGHT
TZOFFSETFROM:+0100
TZOFFSETTO:+0200
TZNAME:CEST
DTSTART:20090329T010000
END:DAYLIGHT
BEGIN:STANDARD
TZOFFSETFROM:+0200
TZOFFSETTO:+0100
TZNAME:CET
DTSTART:20091025T010000
END:STANDARD
END:VTIMEZONE
BEGIN:VEVENT
DTSTART;TZID=Europe/Andorra:20091118T190000
DTEND;TZID=Europe/Andorra:20091118T190000
DTSTAMP:20260420T131941
CREATED:20200729T182628Z
LAST-MODIFIED:20200729T182628Z
UID:12935-1258570800-1258570800@octubre.cat
SUMMARY:Introducció als processos de normalització lingüística i la necessitat d'una legislació que els done suport
DESCRIPTION:Dimecres 18 de novembre\, a les 19.00h: “Introducció als processos de normalització lingüística i la necessitat d’una legislació que els done suport”\, conferència a càrrec de Bernat Joan i Marí\, secretari de Política Lingüística de la Generalitat de Catalunya.   \n  \n  \n\n“Introducció als processos de normalització lingüística i la necessitat d’una legislació que els done suport”\, conferència a càrrec de Bernat Joan i Marí\, secretari de Política Lingüística de la Generalitat de Catalunya.   Bernat Joan i Marí (Eivissa\, 1960). Des de ben jove va tenir el cuc de l’escriptura\, que ha desenvolupat\, fonamentalment\, a través d’articles periodístics (potser mil cinc-cents\, a una vintena de publicacions diverses\, entre l’any 1979 i ara mateix)\, en un extens diari personal (de més de dues mil pàgines\, actualment)\, i\, en menor mesura\, a través de dues novel·les\, un parell de llibres de relats breus\, de nombrosos assaigs i d’una dotzena de peces teatrals (la majoria de les quals han estat representades).   Compromès políticament\, ha impulsat iniciatives a favor de la construcció dels Països Catalans. Cívicament\, ha col·laborat activament durant anys en el moviment de defensa de la llengua catalana. Ha estat eurodiputat a Estrasburg per la coalició Europa dels Pobles (2004-2007)\, de la qual forma part\, entre d’altres\, Esquerra Republicana de Catalunya\, on ell milita. Actualment és Secretari de Política Lingüística de la Generalitat de Catalunya.
URL:https://octubre.cat/activitat/introduccio-als-processos-de-normalitzacio-linguistica-i-la-necessitat-duna-legislacio-que-els-done-suport/
LOCATION:No definit
CATEGORIES:Jornades sobre les normalitzacions reeixides
ATTACH;FMTTYPE=image/jpeg:https://octubre.cat/www/wp-content/uploads/2020/07/activitat969.jpg
END:VEVENT
END:VCALENDAR