BEGIN:VCALENDAR
VERSION:2.0
PRODID:-//Octubre Centre de Cultura Contemporània - ECPv5.1.6//NONSGML v1.0//EN
CALSCALE:GREGORIAN
METHOD:PUBLISH
X-WR-CALNAME:Octubre Centre de Cultura Contemporània
X-ORIGINAL-URL:https://octubre.cat
X-WR-CALDESC:Events for Octubre Centre de Cultura Contemporània
BEGIN:VTIMEZONE
TZID:Europe/Andorra
BEGIN:DAYLIGHT
TZOFFSETFROM:+0100
TZOFFSETTO:+0200
TZNAME:CEST
DTSTART:20130331T010000
END:DAYLIGHT
BEGIN:STANDARD
TZOFFSETFROM:+0200
TZOFFSETTO:+0100
TZNAME:CET
DTSTART:20131027T010000
END:STANDARD
END:VTIMEZONE
BEGIN:VEVENT
DTSTART;TZID=Europe/Andorra:20130313T000000
DTEND;TZID=Europe/Andorra:20130313T000000
DTSTAMP:20260421T190058
CREATED:20200729T165955Z
LAST-MODIFIED:20200729T184044Z
UID:9499-1363132800-1363132800@octubre.cat
SUMMARY:Introducció a la fotografia a la UOC-València
DESCRIPTION:Dimecres 13 de març a les 19.00h. A la seu de la UOC a València (carrer de la Pau\, 3). A càrrec d’Antoni Marín Amatller. Entrada lliure prèvia inscripció  \n  \n  \n\nLloc: Seu de la Universitat Oberta de Catalunya a València –UOC  Carrer de la Pau\, 3 – València  La sessió anirà a càrrec d’Antoni Marín (professor dels Estudis d’Informàtica\, Multimèdia i Telecomunicació de la UOC) i serà una introducció a la realització de fotografies amb els dispositius digitals actuals. S’exposaran els temes bàsics relatius a la composició\, la llum i els elements que constitueixen la visió personal del fotògraf. Es parlarà també dels processos bàsics de l’edició.  La inscripció a la xerrada és gratuïta\, però cal que empleneu el formulari que trobareu en aquest enllaç  Activitat relacionada amb les exposicions “Finestres a l’espai buit” i “Textura i color del paisatge d’Islàndia” que s’exhibeixen a l’Octubre CCC
URL:https://octubre.cat/activitat/introduccio-a-la-fotografia-a-la-uoc-valencia/
LOCATION:No definit
CATEGORIES:Activitats externes
ATTACH;FMTTYPE=image/jpeg:https://octubre.cat/www/wp-content/uploads/2020/07/artvisual1.jpg
END:VEVENT
END:VCALENDAR