BEGIN:VCALENDAR
VERSION:2.0
PRODID:-//Octubre Centre de Cultura Contemporània - ECPv5.1.6//NONSGML v1.0//EN
CALSCALE:GREGORIAN
METHOD:PUBLISH
X-WR-CALNAME:Octubre Centre de Cultura Contemporània
X-ORIGINAL-URL:https://octubre.cat
X-WR-CALDESC:Events for Octubre Centre de Cultura Contemporània
BEGIN:VTIMEZONE
TZID:Europe/Andorra
BEGIN:DAYLIGHT
TZOFFSETFROM:+0100
TZOFFSETTO:+0200
TZNAME:CEST
DTSTART:20140330T010000
END:DAYLIGHT
BEGIN:STANDARD
TZOFFSETFROM:+0200
TZOFFSETTO:+0100
TZNAME:CET
DTSTART:20141026T010000
END:STANDARD
END:VTIMEZONE
BEGIN:VEVENT
DTSTART;TZID=Europe/Andorra:20141107T000000
DTEND;TZID=Europe/Andorra:20141116T000000
DTSTAMP:20260421T002102
CREATED:20200729T170714Z
LAST-MODIFIED:20200730T041239Z
UID:9934-1415318400-1416096000@octubre.cat
SUMMARY:Intramurs
DESCRIPTION:Del 7 al 16 de novembre. Festival per l’art a València. Les activitats a l’Octubre CCC tenen lloc els dies 11 (conferència sobre Comando 28)\, 13 (projecte videoartístic “5 sentits”) i 15 de novembre (Taller de Música i Moviment)  \n  \n  \n\n Festival per l’art a València Del 7 al 16 de novembre de 2014  València Intramurs és un projecte per a promoure l’art contemporani dins de l’àrea que abastaven les antigues muralles de València. Un grup de professionals format per artistes\, dissenyadors\, gestors i teòrics de l’art\, units amb la idea d’organitzar un festival interdisciplinari\, volen dur a terme esta gran experiència en contacte amb les associacions\, les institucions i els comerços d’esta zona centre amb la intenció de dinamitzar comercialment i culturalment un espai que en els darrers anys patix d’una manera especial la crisi econòmica actual.  Organització\, informació i programació completa a Intramurs  Activitats a l’Octubre CCC  Dimarts 11 de novembre a les 17.30h –Conferència de Fiacha O’Donnell (El gato con moscas) sobre el projecte Comando 28: activisme\, acció i ficció (més informació)  Dijous 13 de novembre a les 19.00h –Projecció de vídeos de 5 Sentits Vista\, oïda\, olor\, gust\, tacte… mitjançant aquests cinc sentits interactuem amb el món i amb els altres pobles humans. FIVE és un nou projecte de videoart internacional creat per Magmart. Un jurat internacional va seleccionar –entre una sèrie de peces de videoart sotmeses a concurs–\, 5 videoartistes per a cada continent\, i va proposar una selecció de 25 vídeos\, 5 per al continent i 5 per a cadascun dels sentits. En el marc del festival Intramurs podrem veure aquests 25 vídeos premiats que exploren els 5 sentits. FIVE és un festival organitzat per Magmart i dirigit per Enrico Tomaselli. Itinerància a València: Cristina Ghetti Més informació  Dissabte 15 a les 11.30h –Taller de Música i Moviment amb Mireia Vilar Més informació
URL:https://octubre.cat/activitat/intramurs/
LOCATION:No definit
CATEGORIES:Conferències i congressos
ATTACH;FMTTYPE=image/jpeg:https://octubre.cat/www/wp-content/uploads/2020/07/activitat2165.jpg
END:VEVENT
END:VCALENDAR