BEGIN:VCALENDAR
VERSION:2.0
PRODID:-//Octubre Centre de Cultura Contemporània - ECPv5.1.6//NONSGML v1.0//EN
CALSCALE:GREGORIAN
METHOD:PUBLISH
X-WR-CALNAME:Octubre Centre de Cultura Contemporània
X-ORIGINAL-URL:https://octubre.cat
X-WR-CALDESC:Events for Octubre Centre de Cultura Contemporània
BEGIN:VTIMEZONE
TZID:Europe/Andorra
BEGIN:DAYLIGHT
TZOFFSETFROM:+0100
TZOFFSETTO:+0200
TZNAME:CEST
DTSTART:20090329T010000
END:DAYLIGHT
BEGIN:STANDARD
TZOFFSETFROM:+0200
TZOFFSETTO:+0100
TZNAME:CET
DTSTART:20091025T010000
END:STANDARD
END:VTIMEZONE
BEGIN:VEVENT
DTSTART;TZID=Europe/Andorra:20090506T183000
DTEND;TZID=Europe/Andorra:20090506T183000
DTSTAMP:20260420T173817
CREATED:20200729T182453Z
LAST-MODIFIED:20200729T182453Z
UID:12847-1241634600-1241634600@octubre.cat
SUMMARY:INJERENCIAS!
DESCRIPTION:Dimecres 6 de maig\, a les 18.30h:  INJERENCIAS! Aportacions a la lluita per la Gerència del Port de Sagunt: art + ciutadania\, taula rodona amb els coordinadors del projecte i presentació del DVD amb tot el material generat.   \n  \n  \n\nINJERENCIAS! Aportacions a la lluita per la Gerencia del Port de Sagunt: art + ciutadania és una proposta participativa\, oberta a la reflexió i al debat entorn de l’emblemàtic espai de la Gerència dels antics Alts Forns del Mediterrani del Port de Sagunt. El projecte tracta de reivindicar-ne la titularitat pública\, demandada per la ciutadania. INJERENCIAS es planteja com un compromís que imbrica art i participació ciutadana en un conjunt d’intervencions\, activitats\, tallers\, performances\, taules rodones\, concerts i menjars populars on els visitants són els protagonistes.   Taula rodona amb la intervenció de:   Mau Monleón\, coordinadora d’INJERENCIAS 1998 i 2006. Artista i professora titular del Departament d’Escultura de la UPV i investigadora del Laboratori de Creacions Intermedia (LCI).   Ángel Olmos\, portaveu de la Comissió Ciutadana per a la Defensa de la Gerència.   Carles López Benedí\, membre del col·lectiu La Compañía i membre de la Comissió Ciutadana per a la Defensa de la Gerència.   Juan Antonio Cerezuela\, coordinador d’INJERENCIAS 2006 i becari FPU del Laboratori de Creacions Intermedia (LCI).   A través d’aquesta taula rodona es presentarà la lluita per la consecució d’una Gerència pública del Port de Sagunt\, un projecte que va entrar en funcionament el 1995 gràcies a l’impuls de la Comissió Ciutadana i a les aportacions d’artistes i ciutadans d’a peu mitjançant accions públiques. Aquestes accions s’agrupen sota el títol genèric d’INJERENCIAS 1998-2006. Tot el material audiovisual ha sigut recollit en un DVD que edita la Universitat Politècnica de València en col·laboració amb el Laboratori de Creacions Intermedia del Departament d’Escultura d’aquesta universitat.
URL:https://octubre.cat/activitat/injerencias/
LOCATION:No definit
CATEGORIES:Literatura
ATTACH;FMTTYPE=image/jpeg:https://octubre.cat/www/wp-content/uploads/2020/07/activitat877.jpg
END:VEVENT
END:VCALENDAR