BEGIN:VCALENDAR
VERSION:2.0
PRODID:-//Octubre Centre de Cultura Contemporània - ECPv5.1.6//NONSGML v1.0//EN
CALSCALE:GREGORIAN
METHOD:PUBLISH
X-WR-CALNAME:Octubre Centre de Cultura Contemporània
X-ORIGINAL-URL:https://octubre.cat
X-WR-CALDESC:Events for Octubre Centre de Cultura Contemporània
BEGIN:VTIMEZONE
TZID:Europe/Andorra
BEGIN:DAYLIGHT
TZOFFSETFROM:+0100
TZOFFSETTO:+0200
TZNAME:CEST
DTSTART:20150329T010000
END:DAYLIGHT
BEGIN:STANDARD
TZOFFSETFROM:+0200
TZOFFSETTO:+0100
TZNAME:CET
DTSTART:20151025T010000
END:STANDARD
END:VTIMEZONE
BEGIN:VEVENT
DTSTART;TZID=Europe/Andorra:20150617T190000
DTEND;TZID=Europe/Andorra:20150617T190000
DTSTAMP:20260421T223517
CREATED:20200729T171131Z
LAST-MODIFIED:20200730T041452Z
UID:10212-1434567600-1434567600@octubre.cat
SUMMARY:'Indignados'\, de Tony Gatlif
DESCRIPTION:Dimecres 10 de juny a les 19.00h. Projecció inclosa dins del segon cicle de Cinema Social. Entrada lliure.  \n  \n  \n\n Documental sobre el moviment de protesta que es va estendre per tot Europa el 2011\, des del punt de vista d’un immigrant il·legal que relata les seues experiències dins del moviment. La pel·lícula està inspirada lliurement en el llibre Indigneu-vos!\, de Stéphane Hessel.  Director: Tony Gatlif (2012) Fotografia: Sébastien Saadoun  Productora: Princes Films Durada: 90 minuts  — Entrada lliure Organitzat amb la col·laboració d’El Cine Social Coordinació del cicle: Antonio Lloréns
URL:https://octubre.cat/activitat/indignados-de-tony-gatlif/
LOCATION:Sala d’actes
CATEGORIES:Segon cicle de cinema social
ATTACH;FMTTYPE=image/jpeg:https://octubre.cat/www/wp-content/uploads/2020/07/activitat2343.jpg
END:VEVENT
END:VCALENDAR