BEGIN:VCALENDAR
VERSION:2.0
PRODID:-//Octubre Centre de Cultura Contemporània - ECPv5.1.6//NONSGML v1.0//EN
CALSCALE:GREGORIAN
METHOD:PUBLISH
X-WR-CALNAME:Octubre Centre de Cultura Contemporània
X-ORIGINAL-URL:https://octubre.cat
X-WR-CALDESC:Events for Octubre Centre de Cultura Contemporània
BEGIN:VTIMEZONE
TZID:Europe/Andorra
BEGIN:DAYLIGHT
TZOFFSETFROM:+0100
TZOFFSETTO:+0200
TZNAME:CEST
DTSTART:20190331T010000
END:DAYLIGHT
BEGIN:STANDARD
TZOFFSETFROM:+0200
TZOFFSETTO:+0100
TZNAME:CET
DTSTART:20191027T010000
END:STANDARD
END:VTIMEZONE
BEGIN:VEVENT
DTSTART;TZID=Europe/Andorra:20190219T183000
DTEND;TZID=Europe/Andorra:20190219T183000
DTSTAMP:20260421T103828
CREATED:20200729T173301Z
LAST-MODIFIED:20200729T191043Z
UID:11367-1550601000-1550601000@octubre.cat
SUMMARY:Inauguració i projecció de la pel·lícula "O filme da minha vida"\, de Selton Mello
DESCRIPTION:Dimarts 19 de febrer a les 18.30h. Projecció inaugural de Novocine – Mostra de cinema brasiler. Entrada lliure.	 \n  \n  \n\n 	 La inauguració anirà a càrrec de Vicente Soriano Baños\, Cònsul Honorari de Brasil a Valèmncia\, i de Cléo Costa\, coordinadora del Polo València d’Unigran Europa.  —  O filme da minha vida\, de Selton Mello  Basada en la novel·la Un padre de película\, de l’escriptor xilè Antonio Skármeta\, explica la història del jove Tony\, qui s’enfronta a l’absència del pare que ha tornat a França abandonant-los a ell i la seua mare. Professor de francès en un col·legi\, té\, a més\, que lluitar amb els seus alumnes adolescents. Apassionat per les pel·lícules que veu a la ciutat\, fa de l’amor i del cinema les seus grans raons per viure. Fins que esbrina la veritat sobre el seu pare i l’obliga a prendre les regnes de la seua vida.  Direcció: Selton Mello (2018) Guió: Selton Mello\, Marcello Vindicato (basat  en la novel·la Un padre de película\, d’Antonio Skármeta) Repartiment: Johnny Massaro\, Vincent Cassel\, Bruna Linzmeyer\, Selton Mello\, Ondina Clais\, Bia Arantes. Producció Vania Catani Durada: 113’  Premi del Públic del 22 Festival de Cinema de Lima PUCP 2018 (Perú) Gran Premi del Cinema Brasiler 2018 (Brasil)
URL:https://octubre.cat/activitat/inauguracio-i-projeccio-de-la-pellicula-o-filme-da-minha-vida-de-selton-mello/
LOCATION:Sala d’actes
CATEGORIES:Cinema
ATTACH;FMTTYPE=image/jpeg:https://octubre.cat/www/wp-content/uploads/2020/07/activitat3212.jpg
END:VEVENT
END:VCALENDAR