BEGIN:VCALENDAR
VERSION:2.0
PRODID:-//Octubre Centre de Cultura Contemporània - ECPv5.1.6//NONSGML v1.0//EN
CALSCALE:GREGORIAN
METHOD:PUBLISH
X-WR-CALNAME:Octubre Centre de Cultura Contemporània
X-ORIGINAL-URL:https://octubre.cat
X-WR-CALDESC:Events for Octubre Centre de Cultura Contemporània
BEGIN:VTIMEZONE
TZID:Europe/Andorra
BEGIN:DAYLIGHT
TZOFFSETFROM:+0100
TZOFFSETTO:+0200
TZNAME:CEST
DTSTART:20080330T010000
END:DAYLIGHT
BEGIN:STANDARD
TZOFFSETFROM:+0200
TZOFFSETTO:+0100
TZNAME:CET
DTSTART:20081026T010000
END:STANDARD
END:VTIMEZONE
BEGIN:VEVENT
DTSTART;TZID=Europe/Andorra:20080611T200000
DTEND;TZID=Europe/Andorra:20080611T200000
DTSTAMP:20260421T080617
CREATED:20200729T181919Z
LAST-MODIFIED:20200730T035755Z
UID:12599-1213214400-1213214400@octubre.cat
SUMMARY:Inauguració Festival Emergències
DESCRIPTION:Inauguració del certament Emergències que se celebra a diversos espais de la ciutat fins el 27 de juny  \n  \n  \n\nInauguració del Festival Emergències\, que se celebra de l’11 al 27 de juny a diversos espais de la ciutat. En l’acte inaugural celebrat a l’Ocubre hi haurà concert lounge\, performance i cocktail dolç
URL:https://octubre.cat/activitat/inauguracio-festival-emergencies/
LOCATION:No definit
CATEGORIES:Literatura
ATTACH;FMTTYPE=image/jpeg:https://octubre.cat/www/wp-content/uploads/2020/07/presentacions1.jpg
END:VEVENT
END:VCALENDAR