BEGIN:VCALENDAR
VERSION:2.0
PRODID:-//Octubre Centre de Cultura Contemporània - ECPv5.1.6//NONSGML v1.0//EN
CALSCALE:GREGORIAN
METHOD:PUBLISH
X-WR-CALNAME:Octubre Centre de Cultura Contemporània
X-ORIGINAL-URL:https://octubre.cat
X-WR-CALDESC:Events for Octubre Centre de Cultura Contemporània
BEGIN:VTIMEZONE
TZID:Europe/Andorra
BEGIN:DAYLIGHT
TZOFFSETFROM:+0100
TZOFFSETTO:+0200
TZNAME:CEST
DTSTART:20140330T010000
END:DAYLIGHT
BEGIN:STANDARD
TZOFFSETFROM:+0200
TZOFFSETTO:+0100
TZNAME:CET
DTSTART:20141026T010000
END:STANDARD
END:VTIMEZONE
BEGIN:VEVENT
DTSTART;TZID=Europe/Andorra:20140121T190000
DTEND;TZID=Europe/Andorra:20140121T190000
DTSTAMP:20260422T021106
CREATED:20200729T170311Z
LAST-MODIFIED:20200831T151645Z
UID:9681-1390330800-1390330800@octubre.cat
SUMMARY:Inauguració Deletrix
DESCRIPTION:Acte central sobre l’exposició Deletrix\, de Joan Fontcuberta \n19.00h Presentació de l’informe “La visibilitat dels escriptors valencians en els mitjans de comunicació” Intervindran:\n—Amàlia Garrigós\, periodista\, extreballadora de RTVV\n—Àngels Gregori\, escriptora i autora de l’informe\n—Pau Sanchis\, escriptor i traductor\nModerarà: Vicent Salvador\, vicepresident del PEN Català pel País Valencià \n20.00h Taula rodona sobre l’exposició Deletrix Intervindran:\n—Carme Arenas\, presidenta del PEN Català\n—Joan Fontcuberta\, fotògraf i autor de l’exposició\n—Marina Garcés\, filòsofa\n—Manel Guerrero\, comissari \nOrganitzen:\nPen Català\nOctubre CCC\nArts Santa Mònica\namb la col·laboració de la Institució de les Lletres Catalanes
URL:https://octubre.cat/activitat/inauguracio-deletrix/
LOCATION:Sala d’actes
CATEGORIES:Conferències i congressos
ATTACH;FMTTYPE=image/jpeg:https://octubre.cat/www/wp-content/uploads/2020/07/activitat1973.jpg
END:VEVENT
END:VCALENDAR