BEGIN:VCALENDAR
VERSION:2.0
PRODID:-//Octubre Centre de Cultura Contemporània - ECPv5.1.6//NONSGML v1.0//EN
CALSCALE:GREGORIAN
METHOD:PUBLISH
X-WR-CALNAME:Octubre Centre de Cultura Contemporània
X-ORIGINAL-URL:https://octubre.cat
X-WR-CALDESC:Events for Octubre Centre de Cultura Contemporània
BEGIN:VTIMEZONE
TZID:Europe/Andorra
BEGIN:DAYLIGHT
TZOFFSETFROM:+0100
TZOFFSETTO:+0200
TZNAME:CEST
DTSTART:20080330T010000
END:DAYLIGHT
BEGIN:STANDARD
TZOFFSETFROM:+0200
TZOFFSETTO:+0100
TZNAME:CET
DTSTART:20081026T010000
END:STANDARD
END:VTIMEZONE
BEGIN:VEVENT
DTSTART;TZID=Europe/Andorra:20080306T203000
DTEND;TZID=Europe/Andorra:20080306T203000
DTSTAMP:20260420T235101
CREATED:20200729T181804Z
LAST-MODIFIED:20200730T035655Z
UID:12523-1204835400-1204835400@octubre.cat
SUMMARY:Inauguració del taller Infraestructures Emergents
DESCRIPTION:Dijous 6\, 20.30h.  Inauguració d’aquest taller amb la projecció d’una selecció de cinema brasiler.  \n  \n  \n\nInauguració d’aquest taller amb la projecció d’una selecció de cinema brasiler.
URL:https://octubre.cat/activitat/inauguracio-del-taller-infraestructures-emergents/
LOCATION:No definit
CATEGORIES:Els tallers de l'Octubre
ATTACH;FMTTYPE=image/jpeg:https://octubre.cat/www/wp-content/uploads/2020/07/tallers1.jpg
END:VEVENT
END:VCALENDAR