BEGIN:VCALENDAR
VERSION:2.0
PRODID:-//Octubre Centre de Cultura Contemporània - ECPv5.1.6//NONSGML v1.0//EN
CALSCALE:GREGORIAN
METHOD:PUBLISH
X-WR-CALNAME:Octubre Centre de Cultura Contemporània
X-ORIGINAL-URL:https://octubre.cat
X-WR-CALDESC:Events for Octubre Centre de Cultura Contemporània
BEGIN:VTIMEZONE
TZID:Europe/Andorra
BEGIN:DAYLIGHT
TZOFFSETFROM:+0100
TZOFFSETTO:+0200
TZNAME:CEST
DTSTART:20080330T010000
END:DAYLIGHT
BEGIN:STANDARD
TZOFFSETFROM:+0200
TZOFFSETTO:+0100
TZNAME:CET
DTSTART:20081026T010000
END:STANDARD
END:VTIMEZONE
BEGIN:VEVENT
DTSTART;TZID=Europe/Andorra:20081007T190000
DTEND;TZID=Europe/Andorra:20081007T190000
DTSTAMP:20260420T200030
CREATED:20200729T181940Z
LAST-MODIFIED:20200730T035811Z
UID:12620-1223406000-1223406000@octubre.cat
SUMMARY:Inauguració del Màster Oficial en Arts Visuals i Multimèdia (UPV)
DESCRIPTION:Dimarts 7 d’octubre\, a les 19.00h: Inauguració del Màster Oficial en Arts Visuals i Multimèdia (UPV)  \n  \n  \n\nCurs 2008-2009 de la Universitat Politècnica de València Presentació dels projectes del curs 2007-2008  El Màster Oficial en Arts Visuals i Multimèdia de la Universitat Politècnica de València pretén respondre a l’impacte que té en l’actualitat el desenvolupament de les tecnologies de la informació i el potencial creatiu que impliquen els programes de generació\, tractament i manipulació tècnica de la imatge digital. Aquests canvis estan transformant les formes de producció i difusió de les pràctiques artístiques\, fusionant-se amb altres sectors professionals i econòmics del camp de la informació\, on la imatge\, la part visual prenen un paper rellevant\, cada vegada més important.  En aquest nou context\, la figura de l’artista com a professional o investigador\, integrat en equips interdisciplinars\, es perfila com una de les més sòlides sortides professionals. L’artista contemporani com a productor d’innovació\, té capacitat per incidir directament en el desenvolupament de les societats contemporànies del coneixement. És la nostra responsabilitat percebre aquests canvis i capacitar els alumnes que cursen aquest màster en l’ús dels ferraments tècnics i conceptuals necessaris per a comprendre aquest nou espai de treball i per actuar en ell des d’un punt de vista professiona\, responsable i creatiu.  Mail de contacte
URL:https://octubre.cat/activitat/inauguracio-del-master-oficial-en-arts-visuals-i-multimedia-upv/
LOCATION:No definit
CATEGORIES:Literatura
ATTACH;FMTTYPE=image/jpeg:https://octubre.cat/www/wp-content/uploads/2020/07/presentacions1.jpg
END:VEVENT
END:VCALENDAR