BEGIN:VCALENDAR
VERSION:2.0
PRODID:-//Octubre Centre de Cultura Contemporània - ECPv5.1.6//NONSGML v1.0//EN
CALSCALE:GREGORIAN
METHOD:PUBLISH
X-WR-CALNAME:Octubre Centre de Cultura Contemporània
X-ORIGINAL-URL:https://octubre.cat
X-WR-CALDESC:Events for Octubre Centre de Cultura Contemporània
BEGIN:VTIMEZONE
TZID:Europe/Andorra
BEGIN:DAYLIGHT
TZOFFSETFROM:+0100
TZOFFSETTO:+0200
TZNAME:CEST
DTSTART:20080330T010000
END:DAYLIGHT
BEGIN:STANDARD
TZOFFSETFROM:+0200
TZOFFSETTO:+0100
TZNAME:CET
DTSTART:20081026T010000
END:STANDARD
END:VTIMEZONE
BEGIN:VEVENT
DTSTART;TZID=Europe/Andorra:20080123T190000
DTEND;TZID=Europe/Andorra:20080123T190000
DTSTAMP:20260420T215502
CREATED:20200729T181700Z
LAST-MODIFIED:20251207T234802Z
UID:12464-1201114800-1201114800@octubre.cat
SUMMARY:Inauguració de l'Institut del Territori
DESCRIPTION:El dimecres 23 de gener a la sala d’actes de l’Octubre Centre de Cultura Contemporània tindrà lloc la inauguració de l’Institut del Territori (IDT). \nEl programa d’actes començarà a les 19.00h. amb la conferència sobre el premi Nobel de la Pau 2007 concedit a Al Gore i al Panell Intergovernamental de les Nacions Unides\, a càrrec de Jaume Terradas\, Catedràtic Emèrit d’Ecologia de la Universitat Autònoma de Barcelona. \nA les 20.00h. hi haurà la inauguració de l’IDT\, on hi intervindran:\n—Vicent Pons\, president de l’IDT\n—Isabel-Clara Simó\, escriptora\, Premi Sant Jordi\n—Adolf Beltran\, periodista\n—Miquel Gil\, cantautor\n—Joan Francesc Mira\, escriptor\, Premi d’Honor de les Lletres Catalanes\n— Xavier Mariscal\, dissenyado\n— Federico Mayor Zaragoza\, president de la Fundació Cultura de Pau\, qui clourà l’acte \nA més s’hi inaugurarà la intervenció contra la desfeta del territori efectuada per Xavier Mariscal sobre el mural de Fernando Cabedo Torrents a l’edifici Octubre.
URL:https://octubre.cat/activitat/inauguracio-de-linstitut-del-territori/
LOCATION:Sala d’actes
CATEGORIES:Institut del Territori
ATTACH;FMTTYPE=image/jpeg:https://octubre.cat/www/wp-content/uploads/2020/07/conferencia1.jpg
END:VEVENT
END:VCALENDAR