BEGIN:VCALENDAR
VERSION:2.0
PRODID:-//Octubre Centre de Cultura Contemporània - ECPv5.1.6//NONSGML v1.0//EN
CALSCALE:GREGORIAN
METHOD:PUBLISH
X-WR-CALNAME:Octubre Centre de Cultura Contemporània
X-ORIGINAL-URL:https://octubre.cat
X-WR-CALDESC:Events for Octubre Centre de Cultura Contemporània
BEGIN:VTIMEZONE
TZID:Europe/Andorra
BEGIN:DAYLIGHT
TZOFFSETFROM:+0100
TZOFFSETTO:+0200
TZNAME:CEST
DTSTART:20180325T010000
END:DAYLIGHT
BEGIN:STANDARD
TZOFFSETFROM:+0200
TZOFFSETTO:+0100
TZNAME:CET
DTSTART:20181028T010000
END:STANDARD
END:VTIMEZONE
BEGIN:VEVENT
DTSTART;TZID=Europe/Andorra:20181004T183000
DTEND;TZID=Europe/Andorra:20181004T183000
DTSTAMP:20260420T164351
CREATED:20200729T173129Z
LAST-MODIFIED:20200729T190927Z
UID:11271-1538677800-1538677800@octubre.cat
SUMMARY:Inauguració de la Plataforma Valenciana de Solidaritat amb el Poble Saharaui
DESCRIPTION:Dijous 4 d’octubre a les 18.30h.	 \n  \n  \n\n 	 Des de la Federació\, vos convidem a l’acte de presentació de la Plataforma Valenciana de Solidaritat amb el Poble Sahrauí\, que tindrà lloc el proper 4 d’octubre. Si vols adherir-te tant a títol individual com a col·lectiu\, posa’t en contacte amb nosaltres a través del correu electrònic fasps@hotmail.com. #Valencia encara més compromesa amb el Poble Sahrauí.
URL:https://octubre.cat/activitat/inauguracio-de-la-plataforma-valenciana-de-solidaritat-amb-el-poble-saharaui/
CATEGORIES:Conferències i congressos
ATTACH;FMTTYPE=image/jpeg:https://octubre.cat/www/wp-content/uploads/2020/07/activitat3110.jpg
END:VEVENT
END:VCALENDAR