BEGIN:VCALENDAR
VERSION:2.0
PRODID:-//Octubre Centre de Cultura Contemporània - ECPv5.1.6//NONSGML v1.0//EN
CALSCALE:GREGORIAN
METHOD:PUBLISH
X-WR-CALNAME:Octubre Centre de Cultura Contemporània
X-ORIGINAL-URL:https://octubre.cat
X-WR-CALDESC:Events for Octubre Centre de Cultura Contemporània
BEGIN:VTIMEZONE
TZID:Europe/Andorra
BEGIN:DAYLIGHT
TZOFFSETFROM:+0100
TZOFFSETTO:+0200
TZNAME:CEST
DTSTART:20100328T010000
END:DAYLIGHT
BEGIN:STANDARD
TZOFFSETFROM:+0200
TZOFFSETTO:+0100
TZNAME:CET
DTSTART:20101031T010000
END:STANDARD
END:VTIMEZONE
BEGIN:VEVENT
DTSTART;TZID=Europe/Andorra:20100429T193000
DTEND;TZID=Europe/Andorra:20100429T193000
DTSTAMP:20260420T232901
CREATED:20200729T164838Z
LAST-MODIFIED:20200729T182906Z
UID:8798-1272569400-1272569400@octubre.cat
SUMMARY:Importància dels olis en l'alimentació
DESCRIPTION:Dijous 29 d’abril\, a les 19.30h: “Importància dels olis en l’alimentació”\, conferència a càrrec de Rosaura Farré Rovira (Universitat de València\, CESNID).   \n  \n  \n\nImportància dels olis en l’alimentació Olis i greixos són components importants de l’alimentació humana. Contenen calories\, àcids grassos essencials i vitamines liposolubles. Els olis i els greixos en general afavoreixen l’absorció dels nutrients necessaris per a satisfer els requeriments de l’organisme i proporcionen energia sense agumentar excessivament el volum de la dieta. D’entre tots\, l’oli d’oliva\, un dels ingredients bàsics de la cuina mediterrània\, és especialment beneficiós\, ja que ajuda a la prevenció de malalties com l’arterioesclerosi o a reduir els nivells de colesterol.   Conferència a càrrec de Rosaura Farré Rovira\, professora titular i catedràtica de Nutrició i Bromatologia de la Universitat de València. Directora General de la Fundació CESNID (Centre d’Ensenyament de Nutrició i Dietètica)\, adscrita a la Universitat de Barcelona\, les seues línies d’investigació se centren en la biodisponibilitat mineral\, en les modificacions dels aliments com a conseqüència dels tractaments tecnològics o de l’emmagatzemament i en l’avaluació de l’estat nutricional de diversos grups de població. Compta amb més de 200 publicacions en revistes nacionals i internacionals sobre alimentació i ha participat en nombrosos projectes de recerca.
URL:https://octubre.cat/activitat/importancia-dels-olis-en-lalimentacio/
LOCATION:No definit
CATEGORIES:Societat Valenciana de Ciències de la Salut
ATTACH;FMTTYPE=image/jpeg:https://octubre.cat/www/wp-content/uploads/2020/07/activitat1146.jpg
END:VEVENT
END:VCALENDAR