BEGIN:VCALENDAR
VERSION:2.0
PRODID:-//Octubre Centre de Cultura Contemporània - ECPv5.1.6//NONSGML v1.0//EN
CALSCALE:GREGORIAN
METHOD:PUBLISH
X-WR-CALNAME:Octubre Centre de Cultura Contemporània
X-ORIGINAL-URL:https://octubre.cat
X-WR-CALDESC:Events for Octubre Centre de Cultura Contemporània
BEGIN:VTIMEZONE
TZID:Europe/Andorra
BEGIN:DAYLIGHT
TZOFFSETFROM:+0100
TZOFFSETTO:+0200
TZNAME:CEST
DTSTART:20250330T010000
END:DAYLIGHT
BEGIN:STANDARD
TZOFFSETFROM:+0200
TZOFFSETTO:+0100
TZNAME:CET
DTSTART:20251026T010000
END:STANDARD
END:VTIMEZONE
BEGIN:VEVENT
DTSTART;TZID=Europe/Andorra:20250123T190000
DTEND;TZID=Europe/Andorra:20250123T190000
DTSTAMP:20260420T143649
CREATED:20250121T094410Z
LAST-MODIFIED:20250121T094410Z
UID:22194-1737658800-1737658800@octubre.cat
SUMMARY:Imbermind Listening Session
DESCRIPTION:Escolta en primícia una bestreta de set de les onze cançons que componen l’àlbum debut d’Imbermind\, Never Ending. \nEl nou projecte musical d’Edu Imbernón presenta així el seu so\, que redefineix els límits de la música electrònica i del pop alternatiu. Mostra d’això és el seu segon single “Godlike Man” que ja pots escoltar a Spotify. \nA més de submergir-nos en el nou disc\, Imbermind contarà en primera persona la història de cada tema\, per a després desplaçar-nos al local Bardebares on podrem gaudir d’un networking + pica pica i xerrar amb la banda de manera distesa.
URL:https://octubre.cat/activitat/imbermind-listening-session/
LOCATION:Sala d’actes
CATEGORIES:Música
ATTACH;FMTTYPE=image/jpeg:https://octubre.cat/www/wp-content/uploads/2025/01/imbermind.jpg
END:VEVENT
END:VCALENDAR