BEGIN:VCALENDAR
VERSION:2.0
PRODID:-//Octubre Centre de Cultura Contemporània - ECPv5.1.6//NONSGML v1.0//EN
CALSCALE:GREGORIAN
METHOD:PUBLISH
X-WR-CALNAME:Octubre Centre de Cultura Contemporània
X-ORIGINAL-URL:https://octubre.cat
X-WR-CALDESC:Events for Octubre Centre de Cultura Contemporània
BEGIN:VTIMEZONE
TZID:Europe/Andorra
BEGIN:DAYLIGHT
TZOFFSETFROM:+0100
TZOFFSETTO:+0200
TZNAME:CEST
DTSTART:20080330T010000
END:DAYLIGHT
BEGIN:STANDARD
TZOFFSETFROM:+0200
TZOFFSETTO:+0100
TZNAME:CET
DTSTART:20081026T010000
END:STANDARD
END:VTIMEZONE
BEGIN:VEVENT
DTSTART;TZID=Europe/Andorra:20080213T200000
DTEND;TZID=Europe/Andorra:20080213T200000
DTSTAMP:20260420T181509
CREATED:20200729T181706Z
LAST-MODIFIED:20260110T181150Z
UID:12469-1202932800-1202932800@octubre.cat
SUMMARY:(((vibra))): Illusion of Safety
DESCRIPTION:Illusion of Safety es belluga pel terreny on el so\, el silenci\, el soroll i la música s’entrecreuen. Amb instruments convencionals\, dispositius generadors de so i objectes\, IOS construeix escultures sonores que deliberadament provoquen i fins i tot s’enfronten l’audiència. \nIllusion of Safety és el projecte en curs de Daniel Burke des de 1983\, en col·laboració amb diversos artistes com ara Jim O’Rourke\, Thymme Jones\, Mark Sorensen\, Chris Block\, Mitch Enderle\, Mark Klein o Kurt Griesch.  El seu treball ha estat una constant evolució. Cadascú dels membres ha aportat la seua pròpia perspectiva al projecte. Des del 1991 han creat més de 20 discos en segells discogràfics com ara Die Stadt\, Silent\, OddSize\, Staalplaat\, Soleilmoon\, Manifold\, Tesco\, Ossosnossos i Complacency (el seu propi segell). \nDe vegades les seues composicions han estat descrites com a ambient\, post-industrial\, electro-acústica\, electrònica\, noise\, sound collage\, improvisació o power electronics. No es pot encabir el seu treball en un estil\, cada disc\, concert i\, tot sovint\, cada peça\, pot canviar bruscament d’un estil a un altre. \n—\nSessió del cicle (((vibra))) d’art sonor i música experimental.\nUna producció de l’Octubre CCC coordinada per Rubén García (Eozöon Rec. / València)
URL:https://octubre.cat/activitat/illusion-of-safety/
LOCATION:No definit
CATEGORIES:Vibra
ATTACH;FMTTYPE=image/jpeg:https://octubre.cat/www/wp-content/uploads/2020/07/musica1.jpg
END:VEVENT
END:VCALENDAR