BEGIN:VCALENDAR
VERSION:2.0
PRODID:-//Octubre Centre de Cultura Contemporània - ECPv5.1.6//NONSGML v1.0//EN
CALSCALE:GREGORIAN
METHOD:PUBLISH
X-WR-CALNAME:Octubre Centre de Cultura Contemporània
X-ORIGINAL-URL:https://octubre.cat
X-WR-CALDESC:Events for Octubre Centre de Cultura Contemporània
BEGIN:VTIMEZONE
TZID:Europe/Andorra
BEGIN:DAYLIGHT
TZOFFSETFROM:+0100
TZOFFSETTO:+0200
TZNAME:CEST
DTSTART:20080330T010000
END:DAYLIGHT
BEGIN:STANDARD
TZOFFSETFROM:+0200
TZOFFSETTO:+0100
TZNAME:CET
DTSTART:20081026T010000
END:STANDARD
END:VTIMEZONE
BEGIN:VEVENT
DTSTART;TZID=Europe/Andorra:20080407T193000
DTEND;TZID=Europe/Andorra:20080407T193000
DTSTAMP:20260420T223142
CREATED:20200729T181751Z
LAST-MODIFIED:20200730T035646Z
UID:12511-1207596600-1207596600@octubre.cat
SUMMARY:Il barbiere di Siviglia\, de Gioacchino Rossini
DESCRIPTION:Dilluns 7\, 19.30h.  Il barbiere di Siviglia\, de Gioacchino Rossini
URL:https://octubre.cat/activitat/il-barbiere-di-siviglia-de-gioacchino-rossini/
LOCATION:No definit
CATEGORIES:Parlem d’Òpera
ATTACH;FMTTYPE=image/jpeg:https://octubre.cat/www/wp-content/uploads/2020/07/activitat300.jpg
END:VEVENT
END:VCALENDAR