BEGIN:VCALENDAR
VERSION:2.0
PRODID:-//Octubre Centre de Cultura Contemporània - ECPv5.1.6//NONSGML v1.0//EN
CALSCALE:GREGORIAN
METHOD:PUBLISH
X-WR-CALNAME:Octubre Centre de Cultura Contemporània
X-ORIGINAL-URL:https://octubre.cat
X-WR-CALDESC:Events for Octubre Centre de Cultura Contemporània
BEGIN:VTIMEZONE
TZID:Europe/Andorra
BEGIN:DAYLIGHT
TZOFFSETFROM:+0100
TZOFFSETTO:+0200
TZNAME:CEST
DTSTART:20100328T010000
END:DAYLIGHT
BEGIN:STANDARD
TZOFFSETFROM:+0200
TZOFFSETTO:+0100
TZNAME:CET
DTSTART:20101031T010000
END:STANDARD
END:VTIMEZONE
BEGIN:VEVENT
DTSTART;TZID=Europe/Andorra:20101127T000000
DTEND;TZID=Europe/Andorra:20101127T000000
DTSTAMP:20260420T132605
CREATED:20200729T165003Z
LAST-MODIFIED:20200730T042528Z
UID:8883-1290816000-1290816000@octubre.cat
SUMMARY:III Trobada d'Investigadors de la Comissió de la Veritat
DESCRIPTION:Dissabte 27 de novembre\, a les 9.30h: III Trobada d’Investigadors de la Comissió de la Veritat. Congrés sobre memòria històrica i repressió franquista. Tancat el termini d’inscripció.   \n  \n  \n\nCongrés sobre memòria històrica i repressió franquista  Universitat Jaume I de Castelló 25 i 26 de Novembre (consultar programa) Octubre Centre de  Cultura Contemporània 27 de Novembre   Des de fa uns anys la temàtica de la memòria històrica referida a la Guerra Civil i a la dictadura franquista ocupa un lloc important en l’interès ciutadà\, especialment entre aquells sectors interessats a fer memòria d’un passat que no es vol oblidar per evitar que es repetisca. La proliferació d’associacions memorialistes\, l’aprovació de la Llei de la memòria històrica per part del Parlament espanyol i altres iniciatives similars –com ara la creació del Memorial Democràtic a Catalunya– responen a aquesta inquietud. Per aquesta raó\, el grup d’historiadors de la Comissió de la Veritat del País Valencià ha volgut dedicar la III Trobada a la memòria històrica en relació a la repressió franquista\, tot entenent que la memòria històrica ha de ser un instrument que ens ha de servir per a conèixer la veritat\, tota la veritat\, sobre allò que va representar la repressió franquista.   Comitè organitzador Direcció: Pelai Pagès i Rosa Monlleó Vocals: Vicent Gabarda (Comissió de la Veritat)\, David Ginard (Comissió de la Veritat)\, Javier Navarro (Universitat de València)\, Josep Miquel Santacreu (Universitat d’Alacant) i Ricard Camil Torres (Universitat de València) Secretaris: Vicent Sampedro (Comissió de la Veritat)\, Alfredo Fornás i David Oliver (Centre de Documentació de Recuperació de la Memòria Històrica de la Universitat Jaume I)  Dimecres 24 de novembre\, a les 19.00h.  Acte precongressual: Guerra i literatura Presentació dels llibres El somni de Farringdon Road\, d’Antoni Vives i Heretaràs la terra\, de Toni Cucarella.   Programa de la jornada a l’Octubre CCC Dissabte\, 27 de novembre de 2010  Matí 9.30h. Ponència: La memòria de les dones: represaliades i oblidades. Carmen Agulló (Universitat de València) i Myrta Núñez (Universitat Complutense de Madrid).  10.30h. Debat.  11.30h. Taula rodona: Recuperem els arxius de la repressió. Manuel Vicent (arxiver municipal de Benicarló)\, Rosa Monlleó (Universitat Jaume I)\, Vicent Sampedro (Comissió de la Veritat) i Vicent Gil (arxiver municipal de Vila-real).  12.30h. Debat.   Vesprada 16.00h. Ponència: La Llei de la memòria històrica i la reparació a les víctimes. Anàlisi jurídica i política. Josep M. Asencio (Universitat d’Alacant) i Alfons Aragoneses (Universitat Pompeu Fabra).  17.00h. Debat.  18.00h. Taula rodona: Les associacions memorialistes: objectius i projectes. Fundació Societat i Progrés\, Grup per la Recerca de la Memòria Històrica\, Asociación Archivo\,Guerra y Exilio. 19.00h. Debat. 20.00h. Cloenda de la III Trobada d’Investigadors de la Comissió de la Veritat.   Matrícula Les persones interessades han d’emplenar el formulari que apareix dessota o a www.cemehis.uji.es (telèfons d’informació: 964 728 763/64). Data límit d’inscripció: 19 de novembre de 2010. Es lliurarà un certificat d’assistència. Convalidable per 1 crèdit de lliure configuració per als estudiants de les universitats d’Alacant\, Castelló i València. Preu: 50 euros (25 euros per a estudiants i aturats).   Format de presentació de les ponències i comunicacions Els originals s’han de trametre per correu electrònic a spalau@octubre.cat o cemehis.uji.es en suport disquet. En aquest últim cas s’ha d’adjuntar també una còpia en paper. L’extensió màxima de tot el treball s’estableix en 20 fulls (DIN A4). El text s’ha de presentar en format Word\, amb tipus de lletra Times New Roman (cos 12) i amb interlineat d’un espai i mig. En el treball han de constar explícitament les dades següents: títol\, nom de l’autor o autora\, lloc de treball\, adreça postal i adreça electrònica. Cada apartat del text ha de portar un encapçalament en minúscula i negreta. Dins del text\, el número de la nota a peu de pàgina ha de posar-se després del signe de puntuació. Data límit de lliurament: 12 de novembre de 2010.
URL:https://octubre.cat/activitat/iii-trobada-dinvestigadors-de-la-comissio-de-la-veritat/
LOCATION:No definit
CATEGORIES:Conferències i congressos
ATTACH;FMTTYPE=image/jpeg:https://octubre.cat/www/wp-content/uploads/2020/07/activitat1228.jpg
END:VEVENT
END:VCALENDAR