BEGIN:VCALENDAR
VERSION:2.0
PRODID:-//Octubre Centre de Cultura Contemporània - ECPv5.1.6//NONSGML v1.0//EN
CALSCALE:GREGORIAN
METHOD:PUBLISH
X-WR-CALNAME:Octubre Centre de Cultura Contemporània
X-ORIGINAL-URL:https://octubre.cat
X-WR-CALDESC:Events for Octubre Centre de Cultura Contemporània
BEGIN:VTIMEZONE
TZID:Europe/Andorra
BEGIN:DAYLIGHT
TZOFFSETFROM:+0100
TZOFFSETTO:+0200
TZNAME:CEST
DTSTART:20260329T010000
END:DAYLIGHT
BEGIN:STANDARD
TZOFFSETFROM:+0200
TZOFFSETTO:+0100
TZNAME:CET
DTSTART:20261025T010000
END:STANDARD
END:VTIMEZONE
BEGIN:VEVENT
DTSTART;TZID=Europe/Andorra:20260213T190000
DTEND;TZID=Europe/Andorra:20260213T190000
DTSTAMP:20260420T125117
CREATED:20260113T162652Z
LAST-MODIFIED:20260119T105831Z
UID:24754-1771009200-1771009200@octubre.cat
SUMMARY:III Gala de Pòdcast i Creació de Contingut en valencià
DESCRIPTION:Vine a celebrar amb nosaltres el potencial del valencià com a llengua de creació digital i audiovisual. La III Gala del Pòdcast i Creació de Contingut és molt més que un esdeveniment\, és un punt de trobada per a la comunitat de creadors i creadores que aposta pel nostre idioma.  \nNo deixes passar aquesta oportunitat per donar visibilitat al teu treball!  \nDates clau:  \nObertura d’inscripcions: 12 de gener de 2026  \nTancament d’inscripcions: 30 de gener de 2026  \nAnunci de finalistes: 6 de febrer de 2026  \nGala i entrega de premis: 13 de febrer 2026  \n—\nOrganitza: Acció Cultural del País Valencià\, conjuntament amb Joves d’Acció i Malparlat.\nCol·laboren: Departament de Política Lingüística de la Generalitat de Catalunya.
URL:https://octubre.cat/activitat/iii-gala-de-podcast-i-creacio-de-contingut-en-valencia/
LOCATION:Sala d’actes
CATEGORIES:Gala de premis
ATTACH;FMTTYPE=image/jpeg:https://octubre.cat/www/wp-content/uploads/2026/01/11-GALA-PODCAST.jpg
END:VEVENT
END:VCALENDAR