BEGIN:VCALENDAR
VERSION:2.0
PRODID:-//Octubre Centre de Cultura Contemporània - ECPv5.1.6//NONSGML v1.0//EN
CALSCALE:GREGORIAN
METHOD:PUBLISH
X-WR-CALNAME:Octubre Centre de Cultura Contemporània
X-ORIGINAL-URL:https://octubre.cat
X-WR-CALDESC:Events for Octubre Centre de Cultura Contemporània
BEGIN:VTIMEZONE
TZID:Europe/Andorra
BEGIN:DAYLIGHT
TZOFFSETFROM:+0100
TZOFFSETTO:+0200
TZNAME:CEST
DTSTART:20060326T010000
END:DAYLIGHT
BEGIN:STANDARD
TZOFFSETFROM:+0200
TZOFFSETTO:+0100
TZNAME:CET
DTSTART:20061029T010000
END:STANDARD
END:VTIMEZONE
BEGIN:VEVENT
DTSTART;TZID=Europe/Andorra:20061215T000000
DTEND;TZID=Europe/Andorra:20061215T000000
DTSTAMP:20260420T184246
CREATED:20260106T155654Z
LAST-MODIFIED:20260106T155654Z
UID:24562-1166140800-1166140800@octubre.cat
SUMMARY:II Seminari d’Immigració i Municipalisme
DESCRIPTION:Panell de treball 1: Polítiques d’acollida\n—Pau Beneit Colmena\, tècnic de joventut de l’Ajuntament de Silla (Horta Sud)\n—Joan López i Carol\, regidor d’acció social i ciutadania de Vic (Osona)\n—Amadeu Fuente\, regidor delegat de ciutadania i benestar social de Palafrugell (Baix Empordà) \nPanell de treball 2: Polítiques de participació\n—Laia Subirats\, regidora de serveis socials i participació ciutadana d’Amposta (Montsià)\n—Josep Olivé i Vélez\, alcalde de Canovelles (Vallès Oriental)\n—Gemma Canadell i Laia Martín\, Associació EINA de Salt (Gironès)\n\nPanell de treball 3. Polítiques de gestió de la diversitat\n—Pere Noguera Avellà\, treballador social i coordinador del programa d’interculturalitat de Xàbia (Marina Alta)\n—Reyes Matamales Arribas\, regidora d’afers socials de Bunyol (la Foia de Bunyol)\n—Tòfol Sastre Ramis\, antropòleg i tècnic d’inserció social i immigració de l’Institut Mallorquí d’Afers Socials \n—\nOrganitzat per la Institució Cívica i de Pensament “Joan Fuster”
URL:https://octubre.cat/activitat/ii-seminari-dimmigracio-i-municipalisme-2/
LOCATION:No definit
CATEGORIES:Conferències i congressos
ATTACH;FMTTYPE=image/jpeg:https://octubre.cat/www/wp-content/uploads/2020/07/conferencia1.jpg
END:VEVENT
END:VCALENDAR