BEGIN:VCALENDAR
VERSION:2.0
PRODID:-//Octubre Centre de Cultura Contemporània - ECPv5.1.6//NONSGML v1.0//EN
CALSCALE:GREGORIAN
METHOD:PUBLISH
X-WR-CALNAME:Octubre Centre de Cultura Contemporània
X-ORIGINAL-URL:https://octubre.cat
X-WR-CALDESC:Events for Octubre Centre de Cultura Contemporània
BEGIN:VTIMEZONE
TZID:Europe/Andorra
BEGIN:DAYLIGHT
TZOFFSETFROM:+0100
TZOFFSETTO:+0200
TZNAME:CEST
DTSTART:20140330T010000
END:DAYLIGHT
BEGIN:STANDARD
TZOFFSETFROM:+0200
TZOFFSETTO:+0100
TZNAME:CET
DTSTART:20141026T010000
END:STANDARD
END:VTIMEZONE
BEGIN:VEVENT
DTSTART;TZID=Europe/Andorra:20140220T090000
DTEND;TZID=Europe/Andorra:20140220T090000
DTSTAMP:20260420T220320
CREATED:20200729T170325Z
LAST-MODIFIED:20200729T184340Z
UID:9694-1392886800-1392886800@octubre.cat
SUMMARY:II Jornada de Ciències Socials del col·legi Caferma
DESCRIPTION:Dijous 20 de febrer a partir de les 9.00h. Tallers sobre economia del bé comú\, conferència d’Arcadi Oliveres i debat sobre les eleccions europees  \n  \n  \n\n 9:00 Taller sobre economia del bé comú per SETEM\, InteRed i Jóvenes y Desarrollo Presenten: Alejandro Gandía i Awa Mame  11:00 Conferència “Economia al servei de les persones”\, per Arcadi Oliveres Presenta: Analía Sandi  13:00 Eleccions europees: Trobada amb representants dels partits polítics Modera: David Perelló   Jornada organitzada pel Departament de Ciències Socials del Col·legi Caferma (València) Contacte: 96 3792352 joan.vidal@caferma.es raquel.torner@caferma.es  Acte dedicat especialment a estudiants d’ESO. Entrada lliure
URL:https://octubre.cat/activitat/ii-jornada-de-ciencies-socials-del-collegi-caferma/
CATEGORIES:Conferències i congressos
ATTACH;FMTTYPE=image/jpeg:https://octubre.cat/www/wp-content/uploads/2020/07/activitat1986.jpg
END:VEVENT
END:VCALENDAR