BEGIN:VCALENDAR
VERSION:2.0
PRODID:-//Octubre Centre de Cultura Contemporània - ECPv5.1.6//NONSGML v1.0//EN
CALSCALE:GREGORIAN
METHOD:PUBLISH
X-WR-CALNAME:Octubre Centre de Cultura Contemporània
X-ORIGINAL-URL:https://octubre.cat
X-WR-CALDESC:Events for Octubre Centre de Cultura Contemporània
BEGIN:VTIMEZONE
TZID:Europe/Andorra
BEGIN:DAYLIGHT
TZOFFSETFROM:+0100
TZOFFSETTO:+0200
TZNAME:CEST
DTSTART:20250330T010000
END:DAYLIGHT
BEGIN:STANDARD
TZOFFSETFROM:+0200
TZOFFSETTO:+0100
TZNAME:CET
DTSTART:20251026T010000
END:STANDARD
END:VTIMEZONE
BEGIN:VEVENT
DTSTART;TZID=Europe/Andorra:20250207T190000
DTEND;TZID=Europe/Andorra:20250207T190000
DTSTAMP:20260421T062749
CREATED:20250131T095624Z
LAST-MODIFIED:20250131T095624Z
UID:22243-1738954800-1738954800@octubre.cat
SUMMARY:II Gala del Pòdcast en Valencià i la Creació de Contingut
DESCRIPTION:Vine a celebrar amb nosaltres el potencial del valencià com a llengua de creació digital i audiovisual. La II Gala del Pòdcast és molt més que un esdeveniment\, és un punt de trobada per a la comunitat de creadors i creadores que aposta pel nostre idioma. \nNo deixes passar aquesta oportunitat per donar visibilitat al teu treball! \n—\nOrganitza: Acció Cultural del País Valencià\, conjuntament amb Joves d’Acció\, La Claveguera\, la Podcastera Valenciana.\nCol·laboren: Conselleria de Cultura Generalitat de Catalunya\, la Conselleria de Cultura de la Generalitat Valenciana i l’Octubre CCC.
URL:https://octubre.cat/activitat/ii-gala-del-podcast-en-valencia-i-la-creacio-de-contingut/
LOCATION:Sala d’actes
CATEGORIES:Conferències i congressos
ATTACH;FMTTYPE=image/jpeg:https://octubre.cat/www/wp-content/uploads/2025/01/podcast-cap.jpg
END:VEVENT
END:VCALENDAR