BEGIN:VCALENDAR
VERSION:2.0
PRODID:-//Octubre Centre de Cultura Contemporània - ECPv5.1.6//NONSGML v1.0//EN
CALSCALE:GREGORIAN
METHOD:PUBLISH
X-WR-CALNAME:Octubre Centre de Cultura Contemporània
X-ORIGINAL-URL:https://octubre.cat
X-WR-CALDESC:Events for Octubre Centre de Cultura Contemporània
BEGIN:VTIMEZONE
TZID:Europe/Andorra
BEGIN:DAYLIGHT
TZOFFSETFROM:+0100
TZOFFSETTO:+0200
TZNAME:CEST
DTSTART:20120325T010000
END:DAYLIGHT
BEGIN:STANDARD
TZOFFSETFROM:+0200
TZOFFSETTO:+0100
TZNAME:CET
DTSTART:20121028T010000
END:STANDARD
END:VTIMEZONE
BEGIN:VEVENT
DTSTART;TZID=Europe/Andorra:20120706T190000
DTEND;TZID=Europe/Andorra:20120706T190000
DTSTAMP:20260422T044205
CREATED:20200729T165812Z
LAST-MODIFIED:20200729T183910Z
UID:9397-1341601200-1341601200@octubre.cat
SUMMARY:Iguals en drets? Ara menys
DESCRIPTION:Divendres 6 de juliol\, a les 19.00h. Jornada sobre els efectes de la reforma laboral a dones i altres col·lectius  \n  \n  \n\n“Iguals en drets? Ara menys.” (Com ens afecta la reforma laboral a les dones i als col·lectius més desfavorits)  Ponències a càrrec de Macu Gimeno (Intersindical)\, Candi Barroso (CCOO) i membres per determinar de COS i del Col·lectiu Lambda  Presentació a càrrec de Núria Arnau (Secretària General d’ERPV)  Moderen: Marta Serrano i Carme Camps (Secretaria de la Dona de les JERPV)  Acte organitzat per ERPV
URL:https://octubre.cat/activitat/iguals-en-drets-ara-menys/
LOCATION:No definit
CATEGORIES:Conferències i congressos
ATTACH;FMTTYPE=image/jpeg:https://octubre.cat/www/wp-content/uploads/2020/07/conferencia1.jpg
END:VEVENT
END:VCALENDAR