BEGIN:VCALENDAR
VERSION:2.0
PRODID:-//Octubre Centre de Cultura Contemporània - ECPv5.1.6//NONSGML v1.0//EN
CALSCALE:GREGORIAN
METHOD:PUBLISH
X-WR-CALNAME:Octubre Centre de Cultura Contemporània
X-ORIGINAL-URL:https://octubre.cat
X-WR-CALDESC:Events for Octubre Centre de Cultura Contemporània
BEGIN:VTIMEZONE
TZID:Europe/Andorra
BEGIN:DAYLIGHT
TZOFFSETFROM:+0100
TZOFFSETTO:+0200
TZNAME:CEST
DTSTART:20150329T010000
END:DAYLIGHT
BEGIN:STANDARD
TZOFFSETFROM:+0200
TZOFFSETTO:+0100
TZNAME:CET
DTSTART:20151025T010000
END:STANDARD
END:VTIMEZONE
BEGIN:VEVENT
DTSTART;TZID=Europe/Andorra:20151216T190000
DTEND;TZID=Europe/Andorra:20151216T190000
DTSTAMP:20260421T085707
CREATED:20200729T171512Z
LAST-MODIFIED:20200730T041627Z
UID:10446-1450292400-1450292400@octubre.cat
SUMMARY:I la cultura\, què?
DESCRIPTION:Dimecres 16 de desembre a les 19.00h. Debat amb Manuel Molins\, Albert Ribera i Rafa Tormo. Organitzat per ACPV.  \n  \n  \n\n Propostes perquè el canvi polític arribe també a la cultura     Conversa-debat amb  —Manuel Molins\, dramaturg  —Albert Ribera\, arqueòleg  —Rafa Tormo\, activista cultural  Organitzat per Acció Cultural del País Valencià (ACPV)
URL:https://octubre.cat/activitat/i-la-cultura-que/
CATEGORIES:Conferències i congressos
ATTACH;FMTTYPE=image/jpeg:https://octubre.cat/www/wp-content/uploads/2020/07/activitat2470.jpg
END:VEVENT
END:VCALENDAR