BEGIN:VCALENDAR
VERSION:2.0
PRODID:-//Octubre Centre de Cultura Contemporània - ECPv5.1.6//NONSGML v1.0//EN
CALSCALE:GREGORIAN
METHOD:PUBLISH
X-WR-CALNAME:Octubre Centre de Cultura Contemporània
X-ORIGINAL-URL:https://octubre.cat
X-WR-CALDESC:Events for Octubre Centre de Cultura Contemporània
BEGIN:VTIMEZONE
TZID:Europe/Andorra
BEGIN:DAYLIGHT
TZOFFSETFROM:+0100
TZOFFSETTO:+0200
TZNAME:CEST
DTSTART:20130331T010000
END:DAYLIGHT
BEGIN:STANDARD
TZOFFSETFROM:+0200
TZOFFSETTO:+0100
TZNAME:CET
DTSTART:20131027T010000
END:STANDARD
END:VTIMEZONE
BEGIN:VEVENT
DTSTART;TZID=Europe/Andorra:20130531T090000
DTEND;TZID=Europe/Andorra:20130531T090000
DTSTAMP:20260424T014305
CREATED:20200729T170029Z
LAST-MODIFIED:20200729T184112Z
UID:9530-1369990800-1369990800@octubre.cat
SUMMARY:I Jornada de Ciències Socials del Col·legi Caferma
DESCRIPTION:Divendres 31 de maig a partir de les 9.00h. Jornada organitzada pel Departament de Ciències Socials del Col·legi Caferma de València  \n  \n  \n\n Programa  9.00h: “El segle XX en femení”\, conferència a càrrec d’Ana Aguado (catedràtica d’Història Contemporània de la Universitat de València). Modera: Karen Quituizaca  11.00h: projecció del documental Abajo la dictadura\, realitzat per la Fundació d’Estudis de CCOO-PV  11.50h: “Guerra Civil\, postguerra i franquisme”\, amb els testimonis d’Alejandra Soler\, Josefa Ortega i Elisa Sanchís. Modera: Blanca Bellido  13.00h: “Institucions representatives en la democràcia actual”\, trobada amb diputats dels partits polítics amb representació a les Corts Valencianes. Modera: Yordi Pután  Jornada organitzada pel Departament de Ciències Socials del Col·legi Caferma (València) Contacte: 96 3792352 joan.vidal@caferma.es raquel.torner@caferma.es  Acte dedicat especialment a estudiants d’ESO. Entrada lliure
URL:https://octubre.cat/activitat/i-jornada-de-ciencies-socials-del-collegi-caferma/
LOCATION:Sala d’actes
CATEGORIES:Conferències i congressos
ATTACH;FMTTYPE=image/jpeg:https://octubre.cat/www/wp-content/uploads/2020/07/activitat1786.jpg
END:VEVENT
END:VCALENDAR