BEGIN:VCALENDAR
VERSION:2.0
PRODID:-//Octubre Centre de Cultura Contemporània - ECPv5.1.6//NONSGML v1.0//EN
CALSCALE:GREGORIAN
METHOD:PUBLISH
X-WR-CALNAME:Octubre Centre de Cultura Contemporània
X-ORIGINAL-URL:https://octubre.cat
X-WR-CALDESC:Events for Octubre Centre de Cultura Contemporània
BEGIN:VTIMEZONE
TZID:Europe/Andorra
BEGIN:DAYLIGHT
TZOFFSETFROM:+0100
TZOFFSETTO:+0200
TZNAME:CEST
DTSTART:20140330T010000
END:DAYLIGHT
BEGIN:STANDARD
TZOFFSETFROM:+0200
TZOFFSETTO:+0100
TZNAME:CET
DTSTART:20141026T010000
END:STANDARD
END:VTIMEZONE
BEGIN:VEVENT
DTSTART;TZID=Europe/Andorra:20140227T183000
DTEND;TZID=Europe/Andorra:20140227T183000
DTSTAMP:20260421T024132
CREATED:20200729T170339Z
LAST-MODIFIED:20200729T184353Z
UID:9708-1393525800-1393525800@octubre.cat
SUMMARY:I Congrés Internacional sobre l'ensenyament de la gramàtica
DESCRIPTION:Dijous 27 de febrer a les 18.30h. Conferència de la Dra. María Luisa Vaquera (Universitat de Còrdova) dins del programa del congrès organitzat pel grup GIEL de la Universitat de València  \n  \n  \n\n Conferència a càrrec de la Dra. María Luisa Calero Vaquera (Universitat de Còrdova): “Inicios y desarrollo de la gramática escolar en la tradición hispánica (siglo XIX)”\, amb motiu de la celebració del I Congrés Internacional sobre l’ensenyament de la gramàtica: Present\, passat i futur\, organitzat pel grup GIEL (Grup d’Investigació en Ensenyament de Llengües”\, de la Facultat de Magisteri\, de la Universitat de València.  Accés restringit.
URL:https://octubre.cat/activitat/i-congres-internacional-sobre-lensenyament-de-la-gramatica/
CATEGORIES:Conferències i congressos
ATTACH;FMTTYPE=image/jpeg:https://octubre.cat/www/wp-content/uploads/2020/07/activitat2000.jpg
END:VEVENT
END:VCALENDAR