BEGIN:VCALENDAR
VERSION:2.0
PRODID:-//Octubre Centre de Cultura Contemporània - ECPv5.1.6//NONSGML v1.0//EN
CALSCALE:GREGORIAN
METHOD:PUBLISH
X-WR-CALNAME:Octubre Centre de Cultura Contemporània
X-ORIGINAL-URL:https://octubre.cat
X-WR-CALDESC:Events for Octubre Centre de Cultura Contemporània
BEGIN:VTIMEZONE
TZID:Europe/Andorra
BEGIN:DAYLIGHT
TZOFFSETFROM:+0100
TZOFFSETTO:+0200
TZNAME:CEST
DTSTART:20130331T010000
END:DAYLIGHT
BEGIN:STANDARD
TZOFFSETFROM:+0200
TZOFFSETTO:+0100
TZNAME:CET
DTSTART:20131027T010000
END:STANDARD
END:VTIMEZONE
BEGIN:VEVENT
DTSTART;TZID=Europe/Andorra:20130325T190000
DTEND;TZID=Europe/Andorra:20130327T000000
DTSTAMP:20260421T174654
CREATED:20200729T165952Z
LAST-MODIFIED:20200729T184042Z
UID:9496-1364238000-1364342400@octubre.cat
SUMMARY:'Hotel Transilvània'\, de Genndy Tartakovsky
DESCRIPTION:Dilluns 25\, dimarts 26 i dimecres 27 de març a les 19.00h. Projecció del film ‘Hotel Transilvània’\, de Genndy Tartakovsky (pel·licula d’animació) amb la col·laboració del SPLUV  \n  \n  \n\n  Hotel Transylvania (VOSC)\, de Genndy Tartakovsky (2012)  Dilluns 25\, dimarts 26 i dimecres 27 de març\, a les 19.00h  Pel·lícula d’animació.  Des del seu naixement\, Mavis viu en el luxós hotel Transylvania\, que fou creat per protegir als monstres de l’amenaça dels éssers humans. Quan Mavis està a punt de fer la majoria d’edat (118 anys)\, el seu pare\, el comte Dràcula\, li prepara una festa a la quan assisteixen els més bons amics de la família: Frankestein\, l’Home Invisible\, la Mòmia\, etc. … però també un home que s’enamora de Mavis.   Organitzat per Acció Cultural del País Valencià amb la col·laboració del Servei de Política Lingüística de la Universitat de València (SPLUV)  Preu entrada –3 € –2 € socis d’ACPV –L’entrada serà gratuïta amb el carnet de la Universitat de València (més un acompanyant) i de la Universitat Politècnica de València (més un acompanyant).  Podeu passar a recollir les entrades a partir d’una hora abans de la projecció.
URL:https://octubre.cat/activitat/hotel-transilvania-de-genndy-tartakovsky/
LOCATION:Sala d’actes
CATEGORIES:Cinema
ATTACH;FMTTYPE=image/jpeg:https://octubre.cat/www/wp-content/uploads/2020/07/activitat1750.jpg
END:VEVENT
END:VCALENDAR