BEGIN:VCALENDAR
VERSION:2.0
PRODID:-//Octubre Centre de Cultura Contemporània - ECPv5.1.6//NONSGML v1.0//EN
CALSCALE:GREGORIAN
METHOD:PUBLISH
X-WR-CALNAME:Octubre Centre de Cultura Contemporània
X-ORIGINAL-URL:https://octubre.cat
X-WR-CALDESC:Events for Octubre Centre de Cultura Contemporània
BEGIN:VTIMEZONE
TZID:Europe/Andorra
BEGIN:DAYLIGHT
TZOFFSETFROM:+0100
TZOFFSETTO:+0200
TZNAME:CEST
DTSTART:20090329T010000
END:DAYLIGHT
BEGIN:STANDARD
TZOFFSETFROM:+0200
TZOFFSETTO:+0100
TZNAME:CET
DTSTART:20091025T010000
END:STANDARD
END:VTIMEZONE
BEGIN:VEVENT
DTSTART;TZID=Europe/Andorra:20090124T180000
DTEND;TZID=Europe/Andorra:20090124T180000
DTSTAMP:20260420T132554
CREATED:20200730T035931Z
LAST-MODIFIED:20200730T035931Z
UID:14065-1232820000-1232820000@octubre.cat
SUMMARY:Homo Baby Boom\, d'Anna Boluda
DESCRIPTION:Dissabte 24 de gener a les 18.00h: projecció del documental “Homo Baby Boom” d’Anna Boluda  \n  \n  \n\nProjecció del documental Homo Baby Boom sobre la vida quotidiana de les famílies homoparentals\, produït per l’Associació de Famílies Lesbianes i Gais de Catalunya i dirigit per Anna Boluda.  L’acte inclourà un col·loqui amb la directora.  Acte organitzat per GALESH (Associació de Famílies Gais i Lesbianes amb Fills i Filles)
URL:https://octubre.cat/activitat/homo-baby-boom-danna-boluda/
LOCATION:No definit
CATEGORIES:Cinema
ATTACH;FMTTYPE=image/jpeg:https://octubre.cat/www/wp-content/uploads/2020/07/cinema1.jpg
END:VEVENT
END:VCALENDAR