BEGIN:VCALENDAR
VERSION:2.0
PRODID:-//Octubre Centre de Cultura Contemporània - ECPv5.1.6//NONSGML v1.0//EN
CALSCALE:GREGORIAN
METHOD:PUBLISH
X-WR-CALNAME:Octubre Centre de Cultura Contemporània
X-ORIGINAL-URL:https://octubre.cat
X-WR-CALDESC:Events for Octubre Centre de Cultura Contemporània
BEGIN:VTIMEZONE
TZID:Europe/Andorra
BEGIN:DAYLIGHT
TZOFFSETFROM:+0100
TZOFFSETTO:+0200
TZNAME:CEST
DTSTART:20240331T010000
END:DAYLIGHT
BEGIN:STANDARD
TZOFFSETFROM:+0200
TZOFFSETTO:+0100
TZNAME:CET
DTSTART:20241027T010000
END:STANDARD
END:VTIMEZONE
BEGIN:VEVENT
DTSTART;TZID=Europe/Andorra:20241217T190000
DTEND;TZID=Europe/Andorra:20241217T190000
DTSTAMP:20260421T081126
CREATED:20241017T153322Z
LAST-MODIFIED:20250713T075816Z
UID:21811-1734462000-1734462000@octubre.cat
SUMMARY:Homenatge de València a Joan Salvat-Papasseit
DESCRIPTION:Amb la participació de:\n—Ferran Aisa (comissari de l’Any Salvat-Papasseit\, Institució de les Lletres Catalanes)\n—Borja Puchol\, poeta i activista \ni amb l’espectacle La rosa als llavis a càrrec de Tomàs de los Santos\, Elsa Tronchoni i La Banda Sonora. \n \n \n  \n100 anys de la mort de Joan Salvat-Papasseit\nVa ser un poeta d’avantguarda\, i va tenir també una prolífica activitat com a redactor d’articles de crítica social en català i castellà\, que simpatitzaven amb els corrents anarquistes i socialistes de l’època. El seu estil enèrgic i impulsiu\, optimista i vital\, contrasta amb una vida de rutina i repòs obligats degut als problemes de salut. Va morir de tuberculosi als trenta anys\, i va deixar una obra que durant dècades va ser poc coneguda. A partir dels anys seixanta la seva figura va ser popularitzada sobretot gràcies a autors de la Nova Cançó que van posar música a alguns dels seus poemes. Avui dia és considerat un dels escriptors catalans clau del segle xx. \n \n—\nOrganitzat per Acció Cultural del País Valencià amb la la col·laboració del Departament de Cultura de la Generalitat de Catalunya\, la Generalitat Valenciana\, la Direcció General del Llibre del Ministeri de Cultura i la Diputació de Barcelona.
URL:https://octubre.cat/activitat/homenatge-de-valencia-a-joan-salvat-papasseit/
LOCATION:Hall
CATEGORIES:Literatura
ATTACH;FMTTYPE=image/jpeg:https://octubre.cat/www/wp-content/uploads/2024/10/Q-homenatgePapasseit_Valencia-2.jpg
END:VEVENT
END:VCALENDAR