BEGIN:VCALENDAR
VERSION:2.0
PRODID:-//Octubre Centre de Cultura Contemporània - ECPv5.1.6//NONSGML v1.0//EN
CALSCALE:GREGORIAN
METHOD:PUBLISH
X-WR-CALNAME:Octubre Centre de Cultura Contemporània
X-ORIGINAL-URL:https://octubre.cat
X-WR-CALDESC:Events for Octubre Centre de Cultura Contemporània
BEGIN:VTIMEZONE
TZID:Europe/Andorra
BEGIN:DAYLIGHT
TZOFFSETFROM:+0100
TZOFFSETTO:+0200
TZNAME:CEST
DTSTART:20180325T010000
END:DAYLIGHT
BEGIN:STANDARD
TZOFFSETFROM:+0200
TZOFFSETTO:+0100
TZNAME:CET
DTSTART:20181028T010000
END:STANDARD
END:VTIMEZONE
BEGIN:VEVENT
DTSTART;TZID=Europe/Andorra:20181128T190000
DTEND;TZID=Europe/Andorra:20181128T190000
DTSTAMP:20260421T221933
CREATED:20200729T173212Z
LAST-MODIFIED:20200729T191001Z
UID:11316-1543431600-1543431600@octubre.cat
SUMMARY:Homenatge al pare Riutort
DESCRIPTION:Dimecres 28 de novembre a les 19.00h. Organitzat per ACPV i el Grup de Retors i Seglars del Dissabte.	 \n  \n  \n\n 	 Una església al servei de la llengua i el país.  Amb la intervenció de —Josep Guia\, professor universitari —Joan Senent\, doctor enginyer —Honori Pasqual\, Grup de Retors i Seglars del Dissabte  Organitzat per ACPV i el Grup de Retors i Seglars del Dissabte
URL:https://octubre.cat/activitat/homenatge-al-pare-riutort/
CATEGORIES:Conferències i congressos
ATTACH;FMTTYPE=image/jpeg:https://octubre.cat/www/wp-content/uploads/2020/07/activitat3154.jpg
END:VEVENT
END:VCALENDAR