BEGIN:VCALENDAR
VERSION:2.0
PRODID:-//Octubre Centre de Cultura Contemporània - ECPv5.1.6//NONSGML v1.0//EN
CALSCALE:GREGORIAN
METHOD:PUBLISH
X-WR-CALNAME:Octubre Centre de Cultura Contemporània
X-ORIGINAL-URL:https://octubre.cat
X-WR-CALDESC:Events for Octubre Centre de Cultura Contemporània
BEGIN:VTIMEZONE
TZID:Europe/Andorra
BEGIN:DAYLIGHT
TZOFFSETFROM:+0100
TZOFFSETTO:+0200
TZNAME:CEST
DTSTART:20100328T010000
END:DAYLIGHT
BEGIN:STANDARD
TZOFFSETFROM:+0200
TZOFFSETTO:+0100
TZNAME:CET
DTSTART:20101031T010000
END:STANDARD
END:VTIMEZONE
BEGIN:VEVENT
DTSTART;TZID=Europe/Andorra:20100526T200000
DTEND;TZID=Europe/Andorra:20100526T200000
DTSTAMP:20260420T180945
CREATED:20200729T164945Z
LAST-MODIFIED:20200730T042517Z
UID:8864-1274904000-1274904000@octubre.cat
SUMMARY:Homenatge a Pep Bas
DESCRIPTION:Dimecres 26 de maig\, a les 20.00h: Homenatge al mestre i músic Pep Bas.   \n  \n  \n\nSetmanes després de la seua mort\, el mestre i músic Pep Bas  rebrà un homenatge on participaran els seus amics i companys de La Romàntica del Saladar\, així com altre persones que van conèixer de prop el seu treball musical i la seua vida.   Els encarregats d’homenatjar la memòria de Pep Bas seran Carme Miquel\, Carles Mulet\, Paco Reus\, Joan Buhigues i Josep Vicent Frechina\, responsable de coordinar l’acte. Tots ells repassaran diferents vessants de la seua vida com a mestre\, com a sindicalista\, com a músic i com a ciutadà compromès amb els seus valors cívics i polítics.  Urbàlia Rurana i La Romàntica del Saladar  posaran la nota musical en el sentit homenatge que organitzen l’STEPV  i el Moviment Cooperatiu per l’escola popular del País Valencià.
URL:https://octubre.cat/activitat/homenatge-a-pep-bas/
LOCATION:No definit
CATEGORIES:Literatura
ATTACH;FMTTYPE=image/jpeg:https://octubre.cat/www/wp-content/uploads/2020/07/presentacions1.jpg
END:VEVENT
END:VCALENDAR