BEGIN:VCALENDAR
VERSION:2.0
PRODID:-//Octubre Centre de Cultura Contemporània - ECPv5.1.6//NONSGML v1.0//EN
CALSCALE:GREGORIAN
METHOD:PUBLISH
X-WR-CALNAME:Octubre Centre de Cultura Contemporània
X-ORIGINAL-URL:https://octubre.cat
X-WR-CALDESC:Events for Octubre Centre de Cultura Contemporània
BEGIN:VTIMEZONE
TZID:Europe/Andorra
BEGIN:DAYLIGHT
TZOFFSETFROM:+0100
TZOFFSETTO:+0200
TZNAME:CEST
DTSTART:20090329T010000
END:DAYLIGHT
BEGIN:STANDARD
TZOFFSETFROM:+0200
TZOFFSETTO:+0100
TZNAME:CET
DTSTART:20091025T010000
END:STANDARD
END:VTIMEZONE
BEGIN:VEVENT
DTSTART;TZID=Europe/Andorra:20090327T183000
DTEND;TZID=Europe/Andorra:20090327T183000
DTSTAMP:20260421T033011
CREATED:20200729T182407Z
LAST-MODIFIED:20200729T182407Z
UID:12802-1238178600-1238178600@octubre.cat
SUMMARY:Homenatge a Miquel Esteve
DESCRIPTION:Divendres 27 de març a les 18.30h. Organitzat per la Comissió Ciutadana de Manises\, la Comissió de la Veritat i l’Institut de la Memòria\, en homenatge a la persona que va salvar els arxius de la repressió falangista a Manises  \n  \n  \n\nL’acte està organitzat pel Moviment Ciutadà de Manises  i la Comissió de la Veritat  i consistirà en el lliurament de la documentació original sobre la repressió falangista a Manises\, que Miguel Esteve Tarín va salvar de la destrucció\, a l’Arxiu de la Memòria Joan Baptista Basset\, on es conservarà a partir d’ara. Aquesta documentació ha servit com a base per al treball de l’historiador Ricard Camil Torres Fabra\, publicat sota el títol La repressió franquista al País Valencià. Borriana i Manises.   Hi intervendran representants del Moviment Ciutadà de Manises\, l’historiador Ricard Camil Torres Fabra\, l’homenatjat Miquel Esteve i membres de la Comissió de la Veritat i d’ACPV.
URL:https://octubre.cat/activitat/homenatge-a-miquel-esteve/
LOCATION:No definit
CATEGORIES:Literatura
ATTACH;FMTTYPE=image/jpeg:https://octubre.cat/www/wp-content/uploads/2020/07/presentacions1.jpg
END:VEVENT
END:VCALENDAR