BEGIN:VCALENDAR
VERSION:2.0
PRODID:-//Octubre Centre de Cultura Contemporània - ECPv5.1.6//NONSGML v1.0//EN
CALSCALE:GREGORIAN
METHOD:PUBLISH
X-WR-CALNAME:Octubre Centre de Cultura Contemporània
X-ORIGINAL-URL:https://octubre.cat
X-WR-CALDESC:Events for Octubre Centre de Cultura Contemporània
BEGIN:VTIMEZONE
TZID:Europe/Andorra
BEGIN:DAYLIGHT
TZOFFSETFROM:+0100
TZOFFSETTO:+0200
TZNAME:CEST
DTSTART:20060326T010000
END:DAYLIGHT
BEGIN:STANDARD
TZOFFSETFROM:+0200
TZOFFSETTO:+0100
TZNAME:CET
DTSTART:20061029T010000
END:STANDARD
END:VTIMEZONE
BEGIN:VEVENT
DTSTART;TZID=Europe/Andorra:20061221T190000
DTEND;TZID=Europe/Andorra:20061221T190000
DTSTAMP:20260421T012752
CREATED:20251207T164038Z
LAST-MODIFIED:20251208T223828Z
UID:24171-1166727600-1166727600@octubre.cat
SUMMARY:Homenatge a Lluís Alcanyís\, humanista i científic
DESCRIPTION:Amb la participació de: \n—Francisco Tomàs\, rector de la Universitat de València\n—Francesc Asensi\, cap de la Secció de Malalties Infeccioses de l’Hospital Infantil La Fe de València i professor associat de Pediatria de la Universitat de València\n—Josep Lluís Barona\, catedràtic d’Història de la Ciència i Documentació de la Universitat de València\n—Antoni López Alemany\, president de l’Associació Ulleye de Xàtiva i professor associat de la Universitat de València\n—Vicente López Merino\, catedràtic jubilat de Medicina de la Universitat de València
URL:https://octubre.cat/activitat/homenatge-a-lluis-alcanyis-humanista-i-cientific/
LOCATION:No definit
CATEGORIES:Societat Valenciana de Ciències de la Salut
ATTACH;FMTTYPE=image/jpeg:https://octubre.cat/www/wp-content/uploads/2025/12/alcanyis.jpg
END:VEVENT
END:VCALENDAR