BEGIN:VCALENDAR
VERSION:2.0
PRODID:-//Octubre Centre de Cultura Contemporània - ECPv5.1.6//NONSGML v1.0//EN
CALSCALE:GREGORIAN
METHOD:PUBLISH
X-WR-CALNAME:Octubre Centre de Cultura Contemporània
X-ORIGINAL-URL:https://octubre.cat
X-WR-CALDESC:Events for Octubre Centre de Cultura Contemporània
BEGIN:VTIMEZONE
TZID:Europe/Andorra
BEGIN:DAYLIGHT
TZOFFSETFROM:+0100
TZOFFSETTO:+0200
TZNAME:CEST
DTSTART:20120325T010000
END:DAYLIGHT
BEGIN:STANDARD
TZOFFSETFROM:+0200
TZOFFSETTO:+0100
TZNAME:CET
DTSTART:20121028T010000
END:STANDARD
END:VTIMEZONE
BEGIN:VEVENT
DTSTART;TZID=Europe/Andorra:20121217T183000
DTEND;TZID=Europe/Andorra:20121217T183000
DTSTAMP:20260421T090508
CREATED:20200729T165858Z
LAST-MODIFIED:20200729T183952Z
UID:9442-1355769000-1355769000@octubre.cat
SUMMARY:Homenatge a les Normes de Castelló\, en el  seu 80è aniversari
DESCRIPTION:Dilluns 17 de desembre a les 18.30h. Conferència “La llengua\, vehicle i eina de l’ensenyament al País Valencià”\, a càrrec de Josep M. Baldaquí (Universitat d’Alacant)  \n  \n  \n\n Conferència “La llengua\, vehicle i eina de l’ensenyament al País Valencià”\, a càrrec de Josep M. Baldaquí (Universitat d’Alacant)  Farem un recorregut de les relacions entre normativa\, ensenyament i llengua catalana des de finals del segle XIX a l’actualitat\, amb els reptes que tenim plantejats. Es mostrarà com la normativització\, en el nostre cas a partir de les Normes de Castelló\, és un moment decisiu per a l’ensenyament del català i en català al País Valencià.  Josep Maria Baldaquí és doctor en Filologia Catalana i professor del Departament de Filologia Catalana de la Universitat d’Alacant. Actualment imparteix docència en la Facultat d’Educació de la Universitat d’Alacant i en els màsters oficials en “Assessorament lingüístic i cultura literària:  aplicacions al context valencià” i “Màster en Professorat d’Educació secundària i ensenyaments artístics\, d’idiomes i esportius”. Els seus treballs d’investigació se centren principalment en l’àmbit de la sociolingüística\, amb una atenció específica a les relacions entre sociolingüística i educació. Ha fet també incursions en l’àmbit dels estudis etnopoètics. Membre de l’Institut Interuniversitari de Filologia Valenciana (IIFV)\, en l’actualitat n’és vicedirector i director de la Seu de l’IIFV a la  Universitat d’Alacant.  Acte organitzat per l’Institut d’Estudis Catalans i Acció Cultural del País Valencià
URL:https://octubre.cat/activitat/homenatge-a-les-normes-de-castello-en-el-seu-80e-aniversari/
LOCATION:No definit
CATEGORIES:Conferències i congressos
ATTACH;FMTTYPE=image/jpeg:https://octubre.cat/www/wp-content/uploads/2020/07/activitat1692.jpg
END:VEVENT
END:VCALENDAR