BEGIN:VCALENDAR
VERSION:2.0
PRODID:-//Octubre Centre de Cultura Contemporània - ECPv5.1.6//NONSGML v1.0//EN
CALSCALE:GREGORIAN
METHOD:PUBLISH
X-WR-CALNAME:Octubre Centre de Cultura Contemporània
X-ORIGINAL-URL:https://octubre.cat
X-WR-CALDESC:Events for Octubre Centre de Cultura Contemporània
BEGIN:VTIMEZONE
TZID:Europe/Andorra
BEGIN:DAYLIGHT
TZOFFSETFROM:+0100
TZOFFSETTO:+0200
TZNAME:CEST
DTSTART:20080330T010000
END:DAYLIGHT
BEGIN:STANDARD
TZOFFSETFROM:+0200
TZOFFSETTO:+0100
TZNAME:CET
DTSTART:20081026T010000
END:STANDARD
END:VTIMEZONE
BEGIN:VEVENT
DTSTART;TZID=Europe/Andorra:20080924T190000
DTEND;TZID=Europe/Andorra:20080924T190000
DTSTAMP:20260421T062702
CREATED:20200729T182004Z
LAST-MODIFIED:20200730T035827Z
UID:12644-1222282800-1222282800@octubre.cat
SUMMARY:Homenatge a Josep Vicent Marqués
DESCRIPTION:Dimecres 24 de setembre\, a les 19.00h  \n  \n  \n\nHomenatge a l’escriptor i sociòleg valencià que va morir el passat més de juny.  Intervindran: -Rafa Xambó\, professor de la Universitat de València -Alfons Cervera\, escriptor -Vicent Àlvarez\, membre del Consell Valencià de Cultura -Rafael Castelló\, professor de la Universitat de València -Ferran Zurriaga\, pedagog -Eliseu Climent\, president d’Acció Cultural del País Valencià
URL:https://octubre.cat/activitat/homenatge-a-josep-vicent-marques/
LOCATION:No definit
CATEGORIES:Literatura
ATTACH;FMTTYPE=image/jpeg:https://octubre.cat/www/wp-content/uploads/2020/07/presentacions1.jpg
END:VEVENT
END:VCALENDAR