BEGIN:VCALENDAR
VERSION:2.0
PRODID:-//Octubre Centre de Cultura Contemporània - ECPv5.1.6//NONSGML v1.0//EN
CALSCALE:GREGORIAN
METHOD:PUBLISH
X-WR-CALNAME:Octubre Centre de Cultura Contemporània
X-ORIGINAL-URL:https://octubre.cat
X-WR-CALDESC:Events for Octubre Centre de Cultura Contemporània
BEGIN:VTIMEZONE
TZID:Europe/Andorra
BEGIN:DAYLIGHT
TZOFFSETFROM:+0100
TZOFFSETTO:+0200
TZNAME:CEST
DTSTART:20180325T010000
END:DAYLIGHT
BEGIN:STANDARD
TZOFFSETFROM:+0200
TZOFFSETTO:+0100
TZNAME:CET
DTSTART:20181028T010000
END:STANDARD
END:VTIMEZONE
BEGIN:VEVENT
DTSTART;TZID=Europe/Andorra:20180110T190000
DTEND;TZID=Europe/Andorra:20180110T190000
DTSTAMP:20260421T090442
CREATED:20200729T190238Z
LAST-MODIFIED:20200729T190238Z
UID:13305-1515610800-1515610800@octubre.cat
SUMMARY:Homenatge a Josep Palau i Fabre
DESCRIPTION:Dimecres 10 de gener a les 19.00h. Organitzat per Acció Cultural del País Valencià\, Associació d’Escriptors en Llengua Catalana\, PEN Català\, Institució de les Lletres Catalanes i Fundació Palau en el marc de l’Any Palau i Fabre.  \n  \n  \n\n En el marc de l’Any Palau i Fabre  Presentat per Emili Payà\, director de l’Octubre CCC\, i Manuel Guerrero\, comissari de l’Any Palau i Fabre:  –Presentació de l’Àlbum Josep Palau i Fabre\, editat pel PEN Català i la Fundació Palau\, amb la col·laboració de la Institució de les Lletres Catalanes\, a cura de Carme Arenas\, presidenta del PEN Català\, Helena Pol\, coordinadora de l’Àlbum i Laura Borràs\, directora de la ILC.  –Lectura de poemes i textos dedicats a Josep Palau i Fabre\, presentada per Gemma Pasqual\, vicepresidenta de l’AELC al País Valencià\, amb la participació dels poetes Glòria Julià\, Jaume Pérez Montaner\, Roger Vilà Padró i Joan Noves\, president de la Fundació Palau.  –A les 21.00h\, acabat l’acte\, hi haurà un sopar literari. El preu és de 15 euros per persona. Inscripcions: aelc@escriptors.cat  L’exposició Josep Palau i Fabre. L’home és un animal que es busca\, produïda per la ILC i la Fundació Palau\, es podrà visitar al hall de l’Octubre fins al 14 de gener del 2018.  Ho organitzen: –Acció Cultural del País Valencià (ACPV) –Associació d’Escriptors en Llengua Catalana (AELC) –PEN Català (PEN) –Institució de les Lletres Catalanes (ILC) —Fundació Palau / Any Palau i Fabre  — (Fotografia de Joan Corominas i Salom\, 1992. Josep Palau i Fabre al carrer Bruc\,99)
URL:https://octubre.cat/activitat/homenatge-a-josep-palau-i-fabre/
LOCATION:Hall
CATEGORIES:Literatura
ATTACH;FMTTYPE=image/jpeg:https://octubre.cat/www/wp-content/uploads/2020/07/activitat2944.jpg
END:VEVENT
END:VCALENDAR