BEGIN:VCALENDAR
VERSION:2.0
PRODID:-//Octubre Centre de Cultura Contemporània - ECPv5.1.6//NONSGML v1.0//EN
CALSCALE:GREGORIAN
METHOD:PUBLISH
X-WR-CALNAME:Octubre Centre de Cultura Contemporània
X-ORIGINAL-URL:https://octubre.cat
X-WR-CALDESC:Events for Octubre Centre de Cultura Contemporània
BEGIN:VTIMEZONE
TZID:Europe/Andorra
BEGIN:DAYLIGHT
TZOFFSETFROM:+0100
TZOFFSETTO:+0200
TZNAME:CEST
DTSTART:20120325T010000
END:DAYLIGHT
BEGIN:STANDARD
TZOFFSETFROM:+0200
TZOFFSETTO:+0100
TZNAME:CET
DTSTART:20121028T010000
END:STANDARD
END:VTIMEZONE
BEGIN:VEVENT
DTSTART;TZID=Europe/Andorra:20120622T000000
DTEND;TZID=Europe/Andorra:20120728T000000
DTSTAMP:20260422T044235
CREATED:20200729T165800Z
LAST-MODIFIED:20200830T114817Z
UID:9384-1340323200-1343433600@octubre.cat
SUMMARY:Homenatge a Josep Albert Mestre
DESCRIPTION:Exposició d’homenatge a Josep Albert Mestre: Mostra col·lectiva d’art \nObres de Manolo Antolí\, Tere Brotons\, Rafa Calbo\, Juan Manuel Calvo\, X. Canet\, Xavi Carbonell\, Eduard Corbí\, A. Fernández\, L. Francés\, Luisa Fuster\, E. Galbis\, M. Gomar\, Moisés Gil\, Manolo Granado\, Mònica Jover\, Enric M. Piera\, Sento Masià\, Antoni Miró\, Sari Miró\, Xavier Mollà\, A. Moya\, J. Navarro\, Lluís Sanus\, P. Sempere i Josep Sou. \nAquesta exposició té la voluntat de la gratitut. L’agraïment que senten un bon grup de creatius envers la figura de Josep Albert Mestre i Moltó (Alcoi\, 1947-2011)\, professor\, crític d´art\, escriptor\, polític i ensenyant\, entre d´altres activitats\, sempre dins l´àmbit de la cultura. Un món de pintures basteixen la realitat expositiva\, com també un mosaic de llenguatges creatius s’hi vessen al conjunt de la mostra que\, a bon segur\, no deixarà ningú indiferent. \nInauguració i acte d’homenatge: \nDivendres 22 de juny a les 19.30h. Després de la inauguració tindrà lloc un acte públic d’homenatge amb la participació del poeta Manel Rodríguez-Castelló i d’Antoni Francés (alcalde d’Alcoi)\, Ricardo Peralta (ex secretari general de Nova Esquerra)\, Lluís Torró (diputat d’EUPV)\, Mònica Oltra (diputada de Compromís) i Ximo Puig (secretari general del PSPV-PSOE). En finalitzar l’acte se celebrarà un sopar al mateix centre Octubre. Preu: 23 euros. Podeu fer la reserva fins al 20 de juny amb l’ingrés adient al compte corrent 2013 1368 49 0202287301. Envieu un justificant de l’ingrés amb el vostre nom i telèfon al correu manuelpedrajas[a]yahoo.es \nEntitats que organitzen l’exposició:\nEscola d´Art i Superior de Disseny d´Alcoi\nAjuntaments d’Alcoi\, Ibi i Muro\nUniversitat Miguel Hernández\nUniversitat Politècnica de València (Campus d’Alcoi)\nClub Diario Información d’Alacant\nOctubre Centre de Cultura Contemporània \nJosep Albert Mestre Moltó va ser docent\, concretament professor d’art\, i una de les figures polítiques més destacades de la Transició democràtica a Alcoi. La seua trajectòria sempre ha estat lligada als plantejaments de l’esquerra del País Valencià. Va ser regidor de l’Ajuntament durant quatre legislatures. Primer en representació del Partit Comunista del País Valencià i\, després\, per Esquerra Unida del País Valencià. Posteriorment fou Secretari General de Nova Esquerra del País Valencià arribant a ser Diputat a les Corts Valencianes pel Partit Socialista (PSPV-PSOE). Durant la primera legislatura de la democràcia\, en 1979\, va assumir la Delegació de Cultura i Educació fruit de l’acord de govern entre comunistes i socialistes que va permetre l’accés de l’esquerra a molts governs municipals per tot arreu. Però Josep Albert Mestre\, Mestre\, va ser molt més que un home amb compromís polític. Va fer compatible la seua dedicació a la política amb la docència. En l’àmbit educatiu va desenvolupar una tasca molt destacada. Llicenciat en Història i doctor en Estètica\, va treballar com a docent a l’Escola d’Art d’Alcoi des de 1975\, sent ara Cap d’Estudis de l’Escola. En els últims anys de la seua vida fou\, a més a més\, president de la Confederació d’Escoles d’Arts Plàstiques i Disseny d’Espanya\, entitat que agrupa a 73 centres docents de tot l’Estat. Fou també crític d’art. Membre de l’Associació Nacional i Internacional de Crítics d’Art\, així com escriptor en premsa i en diversos mitjans de comunicació. A més a més\, comissari i jurat en diverses exposicions\, biennals… i col·laborador en llibres sobre Història de l’Art\, sobre Alcoi i la seua comarca. Mestre fou una persona absolutament compromesa sempre amb les llibertats i la democràcia jugant un paper determinant en la transició a la democràcia a Alcoi\, afavorint amb el seu tarannà dialogant\, progressista i nacionalista\, la constitució de la primera corporació democràtica\, de la qual va formar part des del Partit Comunista. Sempre amb una voluntat inequívocament unitària… sempre buscant la suma i el consens per a fer avançar les posicions de progrés en la societat alcoiana i valenciana. Va participar de manera continuada en tot estos temps en les direccions polítiques del PCPV\, d’Esquerra Unida\, de Nova Esquerra i del PSPV. Però a més de la biografia política i la seua trajectòria docent també va ser una persona implicada en la cultura i els moviments socials de la seua ciutat\, de fet era una persona molt coneguda i estimada a Alcoi. Era destacat membre de la Filà Chano\, amb el que allò significa en una ciutat com Alcoi que no s’entén sense les seues festes de “moros i cristians”; fou president del Club d’Amics de la UNESCO i també va ser responsable de la secció comarcal de la Federació d’Ensenyament de Comissions Obreres del País Valencià i col·laborador del diari INFORMACIÓN. Però hi ha més. Va impulsar la creació de l’Asociación para la Integración del Niño (AIN) i també va estar vinculat al món de l’art dramàtic col·laborant amb els grups teatrals La Cazuela i Teatre Circ. Per la seua personalitat\, per la seua trajectòria cívica\, política i humana Mestre és una d’eixes persones irrepetibles que tanta falta han fet i tanta falta fan a societat valenciana. La seua figura ha estat una influència important en centenars i centenars de persones que tenim un deute amb ell per a sempre. El passat 3 de febrer de 2011 Josep Albert Mestre ens va deixar.
URL:https://octubre.cat/activitat/homenatge-a-josep-albert-mestre/
LOCATION:No definit
CATEGORIES:Exposicions
ATTACH;FMTTYPE=image/jpeg:https://octubre.cat/www/wp-content/uploads/2020/07/activitat1627.jpg
END:VEVENT
END:VCALENDAR