BEGIN:VCALENDAR
VERSION:2.0
PRODID:-//Octubre Centre de Cultura Contemporània - ECPv5.1.6//NONSGML v1.0//EN
CALSCALE:GREGORIAN
METHOD:PUBLISH
X-WR-CALNAME:Octubre Centre de Cultura Contemporània
X-ORIGINAL-URL:https://octubre.cat
X-WR-CALDESC:Events for Octubre Centre de Cultura Contemporània
BEGIN:VTIMEZONE
TZID:Europe/Andorra
BEGIN:DAYLIGHT
TZOFFSETFROM:+0100
TZOFFSETTO:+0200
TZNAME:CEST
DTSTART:20070325T010000
END:DAYLIGHT
BEGIN:STANDARD
TZOFFSETFROM:+0200
TZOFFSETTO:+0100
TZNAME:CET
DTSTART:20071028T010000
END:STANDARD
END:VTIMEZONE
BEGIN:VEVENT
DTSTART;TZID=Europe/Andorra:20070419T000000
DTEND;TZID=Europe/Andorra:20070419T000000
DTSTAMP:20260420T210040
CREATED:20251227T175745Z
LAST-MODIFIED:20251227T175745Z
UID:24383-1176940800-1176940800@octubre.cat
SUMMARY:Homenatge a Joan M. Monjo
DESCRIPTION:Homenatge a l’escriptor Joan M. Monjo
URL:https://octubre.cat/activitat/homenatge-a-joan-m-monjo/
LOCATION:No definit
CATEGORIES:Literatura
ATTACH;FMTTYPE=image/jpeg:https://octubre.cat/www/wp-content/uploads/2020/07/activitat2831.jpg
END:VEVENT
END:VCALENDAR